Workbook
Name _3.1: Definitions!$A$30
Name ACI_Regions: Data_Validation!$B$4:$B$8
Name ADP: Data_Validation!$D$76:$D$79
Name Aircraft_Type: Data_Validation!$H$4:$H$53
Name Aircraft_Types: Data_Validation!$H$4:$H$53
Name Airlines_Disabled: Data_Validation!$D$66:$D$70
Name Airside_training: Data_Validation!$B$76:$B$81
Name ARFF_Category_or_Index: Data_Validation!$D$33:$D$47
Name Curfew: Data_Validation!$B$33:$B$37
Name Disabled_Aircraft: Data_Validation!$B$66:$B$69
Name Foam_Type: Data_Validation!$F$25:$F$30
Name Intersection_take_off: Data_Validation!$B$18:$B$21
Name Legislative_Bodies: Data_Validation!$D$4:$D$6
Name Measurement_System: Data_Validation!$D$12:$D$13
Name Pavement_Inspection_Frequency: Data_Validation!$D$58:$D$61
Name Pavement_management_system: Data_Validation!$F$58:$F$61
Name Reconstruction: Data_Validation!$B$58:$B$59
Name RESA: Data_Validation!$F$12:$F$20
Name Runway_Category: Data_Validation!$F$33:$F$39
Name SAF: Data_Validation!$B$41:$B$45
Name Service_Roads: Data_Validation!$D$25:$D$28
Name SMCGS: Data_Validation!$B$25:$B$29
Name Stopbars_Availability: Data_Validation!$D$18:$D$21
Name Stopbars_Operability: Data_Validation!$F$43:$F$46
Name Surface_Type: Data_Validation!$F$4:$F$7
Name Yes_and_No: Data_Validation!$B$12:$B$14

Sheet Introduction & User Guide

Sheet 1. General Information
B2: 1.Identification of the Airport
B3: 1.1 | C3: Airport name (please enter the official name of your airport. e.g. Hartsfield–Jackson Atlanta International Airport)
B4: 1.2 | C4: Airport code (IATA 3-letter code)
B5: 1.3 | C5: ACI region
B6: 1.4 | C6: Annual Aircraft Movements (ATM)
B7: 1.5 | C7: Is your aerodrome certified by the National Civil Aviation Authority (CAA)?
B8: 1.6 | C8: If yes, when?
B9: 1.7 | C9: Which measurement system do you use at your airport?
B10: 1.8 | C10: Which aviation regulatory framework does your airport follow?
B11: 1.9 | C11: Name of person submitting
B12: 1.10 | C12: Job title of the person submitting
B13: 1.11 | C13: E-mail address of the person submitting
B14: 1.12 | C14: Data Year (please select 2021, 2022, 2023, 2024, or 2025 from the dropdown that corresponds to the year of the data you are providing)
B15: This form must be submitted to safety@aci.aero
B16: 2.Runway (RWY) Information
D17: 2.1 | E17: 2.2 | F17: 2.3 | G17: 2.4 | H17: 2.5 | I17: 2.6 | J17: 2.7 | K17: 2.8 | L17: 2.9
C18: Runways | D18: Runway Designation | E18: Runway Surface | F18: =IF(G9="Meter", "Runway Length (Meter)", IF(G9="Feet", "Runway Length (Feet)", "Runway Length (select measurement unit in 1.7) ")) -> Runway Length (select measurement unit in 1.7) | G18: =IF(G9="Meter", "Runway Width (Meter)", IF(G9="Feet", "Runway Width (Feet)", "Runway Width (select measurement unit in 1.7)")) -> Runway Width (select measurement unit in 1.7) | H18: Is the RWY equipped with RESA (ICAO) or RSA (FAA)? | I18: Is the RWY surface grooved? | J18: RWY Approach category | K18: Is the runway equipped with a Runway Status Lights (RWSL) system that automatically illuminates red in-pavement lights to warn of potential conflicts, independent of ATC clearances? | L18: What is the critical aircraft (most demanding aircraft) of this runway?
C19: Runway 1
C21: Runway 2
C23: Runway 3
C25: Runway 4
C27: Runway 5
C29: Runway 6
C31: Runway 7
C33: Runway 8
B36: 3.Taxiway (TWY) Information
C37: 3.1 | D37: 3.2 | E37: 3.3 | F37: 3.4 | G37: 3.5 | H37: 3.6
C38: Number of Rapid Exit Taxiways (RETs) | D38: Number of End-Around Taxiways (EATs), specifically designed to allow aircraft to taxi around the runway end without crossing the active runway | E38: Does your airport have Stop bars at all TWY/RWY intersections, or only at RWY entry points? | F38: Are Stop bars operated at all times or only during Low Visibility Procedures(LVP)? | G38: Do you have Guard Lights (Wig Wags)? | H38: Does your airport allow intersection take-off? If yes, is there a TORA sign for the intersection take-off?
B41: 4.Apron Information
C42: 4.1 | D42: 4.2 | E42: 4.3 | F42: 4.4 | G42: 4.5 | H42: 4.6 | I42: 4.7
C43: Total number of Aircraft Stands | D43: Number of remote aircraft stands, defined in this form as stands that are not equipped with Passenger Boarding Bridges (PBBs) | E43: Is a surface movement guidance and control system (SMGCS) been provided at your airport? If so, which level? | F43: Number of A-VDGS | G43: Are the vehicles service roads located at the front or back side of aircraft stands? | H43: Does your airport have alternative taxilanes or taxiways where differentiated markings (e.g., color, line type, or pattern) are used based on aircraft wingspan to improve traffic flow? | I43: What type of pavement is used for the aircraft parking stands?
B46: 5.General Information of the Airport
C47: 5.1 | D47: 5.2 | E47: 5.3 | F47: 5.3.1 | G47: 5.3.2 | H47: 5.3.3 | I47: 5.3.4 | J47: 5.3.5
C48: Are there any identified Hot Spots? | D48: If yes, are they published in the AIP? | E48: Please specify how many Hot Spots you have in any of these areas. | F48: Runway | G48: Taxiway | H48: Taxilane | I48: Apron | J48: Other Areas
E49: →
C50: 5.4 | D50: 5.5 | E50: 5.6 | F50: 5.7 | G50: 5.8 | H50: 5.9 | I50: 5.10 | J50: 5.11
C51: What is your airport’s RFF category (ICAO) or index (FAA)? | D51: Number of major RFF vehicles capable of directly discharging foam | E51: Type of Firefighting Foam. | F51: Is Sustainable Aviation Fuel (SAF) available at your airport? | G51: If yes, what is the blending ratio? | H51: What is the average amount of SAF available at the airport (in tons)? | I51: Do you have noise abatement procedures at your airport? | J51: Do you have a curfew?
C53: 5.12 | D53: 5.13 | E53: 5.14
C54: Have your CAA transposed any ICAO's recommended practices into national standards? For example: Establishing RESA of 240 m as a National Standard, etc. | D54: If yes, did the CAA consulted with aerodrome operators prior making the recommended practice(s) as standards? | E54: Can you list some of them? → | F54: 5.14.1
F55: 5.14.2
F56: 5.14.3
F57: 5.14.4
F58: 5.14.5
B60: 6. Supplementary Infrastructure Details If you have additional data or information about your airport's infrastructure that will help ACI better understand the context and provide you with better safety intelligence, please don't hesitate to share it with us in the following table. For example: the use of a new technology.
B61: 6.1
B62: 6.2
B63: 6.3
B64: 6.4
B65: 6.5

Sheet 2. Pavement Maintenance
C2: 7. PAVEMENT MAINTENANCE INFORMATION
C3: Runway Specific Questions | D3: ="RWY-1 (" & IF(OR('1. General Information'!D19="", '1. General Information'!D20=""), "N/A", '1. General Information'!D19 & "/" & '1. General Information'!D20) & ")" -> RWY-1 (N/A) | E3: ="RWY-2 (" & IF(OR('1. General Information'!D21="", '1. General Information'!D22=""), "N/A", '1. General Information'!D21 & "/" & '1. General Information'!D22) & ")" -> RWY-2 (N/A) | F3: ="RWY-3 (" & IF(OR('1. General Information'!D23="", '1. General Information'!D24=""), "N/A", '1. General Information'!D23 & "/" & '1. General Information'!D24) & ")" -> RWY-3 (N/A) | G3: ="RWY-4 (" & IF(OR('1. General Information'!D25="", '1. General Information'!D26=""), "N/A", '1. General Information'!D25 & "/" & '1. General Information'!D26) & ")" -> RWY-4 (N/A) | H3: ="RWY-5 (" & IF(OR('1. General Information'!D27="", '1. General Information'!D28=""), "N/A", '1. General Information'!D27 & "/" & '1. General Information'!D28) & ")" -> RWY-5 (N/A) | I3: ="RWY-6 (" & IF(OR('1. General Information'!D29="", '1. General Information'!D30=""), "N/A", '1. General Information'!D29 & "/" & '1. General Information'!D30) & ")" -> RWY-6 (N/A) | J3: ="RWY-7 (" & IF(OR('1. General Information'!D31="", '1. General Information'!D32=""), "N/A", '1. General Information'!D31 & "/" & '1. General Information'!D32) & ")" -> RWY-7 (N/A) | K3: ="RWY-8 (" & IF(OR('1. General Information'!D33="", '1. General Information'!D34=""), "N/A", '1. General Information'!D33 & "/" & '1. General Information'!D34) & ")" -> RWY-8 (N/A)
B4: 7.1 | C4: If applicable, when did the runway undergo its last major reconstruction or rehabilitation works? (For example: full-depth replacement of the runway pavement over at least 50% of its length, runway overlay, etc.)
B5: 7.2 | C5: Was the reconstruction full length or partial length?
B6: 7.3 | C6: Was this reconstruction undertaken before the pavement reached its planned design life?
B7: 7.4 | C7: If yes, what was the reason for the early reconstruction?
B8: 7.5 | C8: Is the runway currently exhibiting any unexpected signs of pavement distress? (Examples include excessive cracking, spalling, scaling, rutting, shoving, blowups, or raveling.)
B9: 7.6 | C9: If so, please provide a brief description of the distress.
C10: General Pavement Management System Questions (runway independent)
B11: 7.7 | C11: Have you conducted a Pavement Condition Index (PCI) evaluation of the runway?
B12: 7.8 | C12: If so, how frequently do you conduct PCI evaluations?
B13: 7.9 | C13: When was the last time a non-destructive test (NDT) was conducted on the runway pavement?
B14: 7.10 | C14: Do you have a formal pavement management system in place at your airport?
B15: 7.11 | C15: If so, how long has this system been in place?
B16: 7.12 | C16: What design life do you use for your runway pavements (in years)? If it varies, please provide details explaining the reasons for the variation.
B18: 8. Supplementary Pavement Maintenance Details If you have additional data or information about your airside pavement maintenance that will help ACI better understand the context and provide you with better safety intelligence, please don't hesitate to share it with us in the following table.
B19: 8.1
B20: 8.2
B21: 8.3
B22: 8.4
B23: 8.5

Sheet 3. Lagging Indicators
C2: Please enter the number of runway incursions and excursions for each runway at your airport.
B3: Safety Performance Area (SPA)-1 Runway Safety | D3: Runway 1 | E3: Runway 2 | F3: Runway 3 | G3: Runway 4 | H3: Runway 5 | I3: Runway 6 | J3: Runway 7 | K3: Runway 8
B4: SPI-01 | C4: Runway Incursion - by type | D4: =IF(OR('1. General Information'!D19="", '1. General Information'!D20=""), "N/A", '1. General Information'!D19 & "-" & '1. General Information'!D20) -> N/A | E4: =IF(OR('1. General Information'!D21="", '1. General Information'!D22=""), "N/A", '1. General Information'!D21 & "-" & '1. General Information'!D22) -> N/A | F4: =IF(OR('1. General Information'!D23="", '1. General Information'!D24=""), "N/A", '1. General Information'!D23 & "-" & '1. General Information'!D24) -> N/A | G4: =IF(OR('1. General Information'!D25="", '1. General Information'!D26=""), "N/A", '1. General Information'!D25 & "-" & '1. General Information'!D26) -> N/A | H4: =IF(OR('1. General Information'!D27="", '1. General Information'!D28=""), "N/A", '1. General Information'!D27 & "-" & '1. General Information'!D28) -> N/A | I4: =IF(OR('1. General Information'!D29="", '1. General Information'!D30=""), "N/A", '1. General Information'!D29 & "-" & '1. General Information'!D30) -> N/A | J4: =IF(OR('1. General Information'!D31="", '1. General Information'!D32=""), "N/A", '1. General Information'!D31 & "-" & '1. General Information'!D32) -> N/A | K4: =IF(OR('1. General Information'!D33="", '1. General Information'!D34=""), "N/A", '1. General Information'!D33 & "-" & '1. General Information'!D34) -> N/A
B5: SPI-01-A | C5: Aircraft (choose the runway that best suit each case/scenario)
B6: SPI-01-B | C6: Vehicle (choose the runway that best suit each case/scenario)
B7: SPI-01-C | C7: Person (choose the runway that best suit each case/scenario)
B8: SPI-02 | C8: Runway Excursion- by type | D8: =IF(OR('1. General Information'!D19="", '1. General Information'!D20=""), "N/A", '1. General Information'!D19 & "-" & '1. General Information'!D20) -> N/A | E8: =IF(OR('1. General Information'!D21="", '1. General Information'!D22=""), "N/A", '1. General Information'!D21 & "-" & '1. General Information'!D22) -> N/A | F8: =IF(OR('1. General Information'!D23="", '1. General Information'!D24=""), "N/A", '1. General Information'!D23 & "-" & '1. General Information'!D24) -> N/A | G8: =IF(OR('1. General Information'!D25="", '1. General Information'!D26=""), "N/A", '1. General Information'!D25 & "-" & '1. General Information'!D26) -> N/A | H8: =IF(OR('1. General Information'!D27="", '1. General Information'!D28=""), "N/A", '1. General Information'!D27 & "-" & '1. General Information'!D28) -> N/A | I8: =IF(OR('1. General Information'!D29="", '1. General Information'!D30=""), "N/A", '1. General Information'!D29 & "-" & '1. General Information'!D30) -> N/A | J8: =IF(OR('1. General Information'!D31="", '1. General Information'!D32=""), "N/A", '1. General Information'!D31 & "-" & '1. General Information'!D32) -> N/A | K8: =IF(OR('1. General Information'!D33="", '1. General Information'!D34=""), "N/A", '1. General Information'!D33 & "-" & '1. General Information'!D34) -> N/A
B9: SPI-02-A | C9: Overrun (choose the runway that best suit each case/scenario)
B10: SPI-02-B | C10: Undershoot (choose the runway that best suit each case/scenario)
B11: SPI-02-C | C11: Veer-off (choose the runway that best suit each case/scenario)
C13: SPA 2- FOD
B14: SPI-03 | C14: Foreign Object Debris (FOD), other than wildlife remains. | D14: =IF('1. General Information'!$G$14="","Please select Data Year in 1.12",'1. General Information'!$G$14) -> Please select Data Year in 1.12
B15: SPI-03-A | C15: Damage to aircraft due to Foreign Object Debris (FOD) on runway
B16: SPI-03-B | C16: FOD found on the runway
B17: SPI-03-C | C17: Damage to aircraft due to FOD on taxiway
B18: SPI-03-D | C18: FOD found on the taxiway
B19: SPI-03-E | C19: Damage to aircraft due to FOD on apron
B20: SPI-03-F | C20: FOD found on the apron
B22: SPA-3 Disabled Aircraft
B23: SPI-04 | C23: Disabled Aircraft | D23: =IF('1. General Information'!$G$14="","Please select Data Year in 1.12",'1. General Information'!$G$14) -> Please select Data Year in 1.12 | G23: SPI-04-H
B24: SPI-04-A | C24: Does your airport have a disabled aircraft removal plan or access to equipment (from on-site or external sources)? | E24: What was the type of aircraft involved?(Up to 5 aircrafts)
B25: SPI-04-B | C25: Do the airlines or air operators currently operating at your airport have a disabled aircraft removal plan or arrangement with another company?
B26: SPI-04-C | C26: Do the airlines or air operators currently operating at your airport share their disabled aircraft removal plan with the airport operator? | E26: 1st | F26: 2nd | G26: 3rd | H26: 4th | I26: 5th
B27: SPI-04-D | C27: Number of disabled aircraft on runway
B28: SPI-04-E | C28: Number of disabled aircraft on taxiway
B29: SPI-04-F | C29: Number of disabled aircraft on apron
B30: SPI-04-G | C30: Runway closure time due to disabled aircraft. (Please round to the nearest hour) | D30: →
C32: SPA-4 Taxiway Safety
B33: SPI-05 | C33: Taxiway Incursion (TI) | D33: =IF('1. General Information'!$G$14="","Please select Data Year in 1.12",'1. General Information'!$G$14) -> Please select Data Year in 1.12
B34: SPI-05-A | C34: Aircraft
B35: SPI-05-B | C35: Vehicle
B36: SPI-05-C | C36: Person
C38: Taxiway Excursion (TE) | D38: =IF('1. General Information'!$G$14="","Please select Data Year in 1.12",'1. General Information'!$G$14) -> Please select Data Year in 1.12
B39: SPI-06 | C39: Taxiway Excursion (TE)
B41: SPI-07 | C41: Taxiway Collision | D41: =IF('1. General Information'!$G$14="","Please select Data Year in 1.12",'1. General Information'!$G$14) -> Please select Data Year in 1.12
B42: SPI-07-A | C42: Aircraft-Aircraft
B43: SPI-07-B | C43: Aircraft-Vehicle
B44: SPI-07-C | C44: Aircraft-Facility
B45: SPI-07-D | C45: Aircraft-Person
B47: SPA-5 Apron Safety
B48: SPI-08 | C48: Collision on Apron | D48: =IF('1. General Information'!$G$14="","Please select Data Year in 1.12",'1. General Information'!$G$14) -> Please select Data Year in 1.12
B49: SPI-08-A | C49: Aircraft - Aircraft (one is parked)
B50: SPI-08-B | C50: Aircraft - Aircraft (both moving)
B51: SPI-08-C | C51: Aircraft - Vehicle
B52: SPI-08-D | C52: Aircraft - Fixed Object
B53: SPI-08-E | C53: Vehicle - Vehicle
B54: SPI-08-F | C54: Vehicle - Fixed Object
B55: SPI-08-G | C55: Vehicle - Person
C57: Fuel Spillage | D57: =IF('1. General Information'!$G$14="","Please select Data Year in 1.12",'1. General Information'!$G$14) -> Please select Data Year in 1.12
B58: SPI-09 | C58: Number of major fuel spillage (>1m2)
B60: SPI-10 | C60: Jet Blast-Propeller Blast / Engine Ingestion | D60: =IF('1. General Information'!$G$14="","Please select Data Year in 1.12",'1. General Information'!$G$14) -> Please select Data Year in 1.12
B61: SPI-10-A | C61: Number of jet/propeller blast occurrences
B62: SPI-10-B | C62: Number of engine-propeller ingestion occurrences
C64: SPA-6 Wildlife Management
B65: SPI-11 | C65: Bird Strikes | D65: =IF('1. General Information'!$G$14="","Please select Data Year in 1.12",'1. General Information'!$G$14) -> Please select Data Year in 1.12
B66: SPI-11-A | C66: Birds Strikes - Zone A (inside the fence Area-approach 200 feet-Dep 500 feet)
B67: SPI-11-B | C67: Birds Strikes - Zone B (vicinity of airport)
B68: SPI-11-C | C68: Birds Strikes - Zone C (1500 feet and terminal control area)
B69: SPI-11-D | C69: Birds Strikes - Zone Unknown
B70: SPI-12 | C70: Terrestrial Animal Strikes - (inside the fence of aerodrome)
C72: SPA-7 Other Occurrences
D73: =IF('1. General Information'!$G$14="","Please select Data Year in 1.12",'1. General Information'!$G$14) -> Please select Data Year in 1.12
B74: SPI-13 | C74: The number of airside fires involving an electric GSE/ electric vehicle
B75: SPI-14-A | C75: The number of airport control zone violation by UAV (Unmanned Aerial Vehicles, drones)
B76: SPI-14-B | C76: The number of airport control zone violation by lasers
B77: SPI-15-A | C77: The number of unauthorized vehicles on the airside
B78: SPI-15-B | C78: The number of unauthorized persons on the airside
B79: SPI-16 | C79: The number of airside fatal accidents to personnel
B81: SPA-8. Extra Lagging Indicators If you are collecting any other lagging indicators that can help ACI better understand global aviation safety trends, and potentially be added as new indicators to ACI's safety data collection platform, please don't hesitate to share them with us in the following table. Your contributions will be recognized and valued in our efforts to enhance aviation safety.
B82: SPI-17-A
B83: SPI-17-B
B84: SPI-17-C
B85: SPI-17-D
B86: SPI-17-E

Sheet 4. Leading Indicators
B2: SPA-9 Emergency Response Planning
B3: SPI-18 | C3: Emergency Response Planning Exercises | G3: =IF('1. General Information'!$G$14="","Please select Data Year in 1.12",'1. General Information'!$G$14) -> Please select Data Year in 1.12
B4: SPI-18-A | C4: The number of tabletop exercises conducted in compliance with ICAO Annex 14 requirements
B5: SPI-18-B | C5: The number of partial exercises conducted in compliance with ICAO Annex 14 requirements
B6: SPI-18-C | C6: The number of full-scale exercises conducted in compliance with ICAO Annex 14 requirements
B8: SPA-10 Safety Culture and Training
B9: SPI-19 | C9: Safety Reporting | G9: =IF('1. General Information'!$G$14="","Please select Data Year in 1.12",'1. General Information'!$G$14) -> Please select Data Year in 1.12
B10: SPI-19-A | C10: The number of voluntary reports
B11: SPI-19-B | C11: The number of feedback responces to voluntary reports
B12: SPI-19-C | C12: The number of hazards identified during the reporting year
B13: SPI-19-D | C13: The number of measures taken
B15: SPI-20 | C15: Safety Meetings and Promotions | G15: =IF('1. General Information'!$G$14="","Please select Data Year in 1.12",'1. General Information'!$G$14) -> Please select Data Year in 1.12
B16: SPI-20-A | C16: Do you have a Safety Review Board (SRB) responsible for strategic safety oversight and high-level safety decisions? | E16: SPI-20-A1 | F16: How many meetings did you have during the reporting year?
B17: SPI-20-B | C17: Do you have a Safety Action Group (SAG) responsible for implementing and monitoring safety actions? | E17: SPI-20-B1 | F17: How many meetings did you have during the reporting year?
B18: SPI-20-C | C18: Do you have a Runway Safety Team (RST) dedicated to runway safety and prevention of runway incursions/excursions? | E18: SPI-20-C1 | F18: How many meetings did you have during the reporting year?
E19: SPI-20-C2 | F19: Which entity leads the Runway Safety Team (RST)?
B20: SPI-20-D | C20: Do you have an Apron Safety Team (AST), dedicatd to the safety of apron/ramp operations? | E20: SPI-20-D1 | F20: How many meetings did you have during the reporting year?
B21: SPI-20-E | C21: The number of safety bulletins or notices issued
B22: SPI-20-F | C22: The number of safety seminars or workshops held
B23: SPI-20-G | C23: The number of safety promotion campaigns held (e.g., FOD awareness walks, safety week, etc.)
B25: SPI-21 | C25: Safety Training | G25: =IF('1. General Information'!$G$14="","Please select Data Year in 1.12",'1. General Information'!$G$14) -> Please select Data Year in 1.12
B26: SPI-21-A | C26: Total number of personnel holding a valid movement area access authorization (including runways, taxiways, and aprons) at the end of the reporting year
B27: SPI-21-B | C27: Of those personnel, how many have completed airside safety training and remain valid at the end of the reporting year?
B28: SPI-21-C | C28: Is recurrent training provided?
B29: SPI-21-D | C29: If yes, at what interval is it refreshed?
B30: SPI-21-F | C30: Number of personnel who have completed training and hold a valid apron/ramp area driving permit as of the end of the reporting year
B31: SPI-21-G | C31: Number of personnel who have completed training and hold a valid maneuvering area (including Runways and Taxiways) driving permit as of the end of the reporting year
B32: SPI-21-H | C32: The validity period of apron area driving training (years)
B33: SPI-21-I | C33: The validity period of maneuvering area driving training (years)
B34: SPI-21-J | C34: Are all vehicles, aircraft, and personnel accessing the runway using the same radio frequency? (one runway/one frequency)
B35: SPI-21-K | C35: Do you have a driving permit zone classification for the airside of your airport?
B36: SPI-21-L | C36: If yes, please select the types of airside driving permits available at your airport.
B39: SPA-11. Extra Leading Indicators If you are collecting any other leading indicators that can help ACI better understand global aviation safety trends, and potentially be added as new indicators to ACI's safety data collection platform, please don't hesitate to share them with us in the following table. Your contributions will be recognized and valued in our efforts to enhance aviation safety.
B40: SPI-22-A
B41: SPI-22-B
B42: SPI-22-C
B43: SPI-22-D
B44: SPI-22-E

Sheet Definitions
A2: Term code | B2: Question/Term | C2: Definitions/Description | D2: References
C3: General Information Tab
A4: 1. | B4: IDENTIFICATION of the AIRPORT
A5: 1.1 | B5: Airport name | C5: The official name of the airport as designated by the relevant aviation authority. It identifies the specific location or facility where aircraft operations take place. | D5: ICAO Annex 14 - Aerodromes, Volume I - Aerodrome Design and Operations
A6: 1.2 | B6: Airport code (IATA 3-letter code) | C6: The three-letter code assigned by the International Air Transport Association (IATA) to uniquely identify airports worldwide. These codes are used in airline schedules, ticketing, baggage handling, and other airline-related activities. | D6: IATA Airport Coding Manual You can identify your airport code using the IATA search tool by clicking on this cell.
A7: 1.3 | B7: ACI region | C7: The region to which the airport belongs according to the Airports Council International (ACI) regional classification. ACI categorizes airports into regions for administrative and statistical purposes. | D7: ACI Regional Offices
A8: 1.4 | B8: Annual aircraft movements (atm) | C8: The total number of aircraft takeoffs or landings at an airport during reporting year. Aircraft movements are a key metric for assessing airport activity and workload. | D8: ICAO Annex 14 - Aerodromes, Volume I - Aerodrome Design and Operations
A9: 1.5 | B9: Is your aerodrome certified by the National Civil Aviation Authority (CAA)? | C9: Indicates whether the aerodrome (airport) holds certification from the National Civil Aviation Authority (CAA) in accordance with regulatory requirements. Aerodrome certification ensures compliance with safety, security, and operational standards. | D9: ICAO Annex 14 - Aerodromes, Volume I - Aerodrome Design and Operations
A10: 1.6 | B10: If yes, when? | C10: Enter the current aerodrome certificate issuance date. | D10: Aerodrome Certification
A11: 1.7 | B11: Which measurement system do you use at your airport? | C11: Choose the unit of measurement for length that you will use to complete the form. Typically, this is the unit used in your airport’s AIP and internal documentation: meters or feet. | D11: Internal documentation and procedures of the organization
A12: 1.8 | B12: Which aviation regulatory framework does your airport follow? | C12: Select the aviation regulatory framework your airport follow. This will help us better understand the definitions and characteristics of your entries when variations occur between different aviation regulatory frameworks. If you do not follow FAA or EASA, please choose ICAO. | D12: Internal documentation and procedures of the organization
A13: 1.9 | B13: Name of person submitting | C13: The full name of the individual responsible for submitting the safety data collection form. This person is typically an authorized representative of the airport or organization.
A14: 1.10 | B14: Job title of the person submitting | C14: The job title or position held by the individual submitting the safety data collection form. This information helps identify the role and responsibility of the person in the organization. | D14: Internal documentation and procedures of the organization
A15: 1.11 | B15: E-mail address of the person submitting | C15: The email address of the individual responsible for submitting the safety data collection form. This contact information facilitates communication and correspondence regarding the form and related matters. | D15: Internal documentation and procedures of the organization
A16: 1.12 | B16: Data Year | C16: The calendar year to which the submitted data applies. All data must reflect a complete January–December period and be consistent across the form.
A17: 2. | B17: GENERAL PHYSICAL CHARACTERISTICS of the RUNWAY | C17: This section pertains to various physical attributes and equipment associated with the runway, providing essential information for operational and safety considerations.
A18: 2.1 | B18: Runway Designation | C18: The alphanumeric designation assigned to the runway based on its magnetic orientation. This designation aids pilots in identifying and navigating to the correct runway. | D18: ICAO Annex 14 - Aerodromes, Volume I - Aerodrome Design and Operations Ch-5.2.2
A19: 2.2 | B19: Runway Surface | C19: The type of surface material or composition of the runway, such as asphalt, concrete, or grass. The runway surface affects aircraft performance during takeoff, landing, and taxiing. For surface types that are not asphalt, concrete, or a combination of the two—such as natural surfaces like grass, gravel, etc.—please select "Others". | D19: ICAO Annex 14 - Aerodromes, Volume I - Aerodrome Design and Operations
A20: 2.3 | B20: Runway Length | C20: The physical length of the runway as stated in the AIP. Please note that the measurement unit will automatically adjust based on your selection in question 1.7. | D20: ICAO Annex 14 - Aerodromes, Volume I - Aerodrome Design and Operations Table 4-2
A21: 2.4 | B21: Runway Width | C21: The physical width of the runway as stated in the AIP. Please note that the measurement unit will automatically adjust based on your selection in question 1.7. | D21: ICAO Annex 14 - Aerodromes, Volume I - Aerodrome Design and Operations Table 4-2
A22: 2.5 | B22: Is the RWY equipped with RESA (ICAO) or RSA (FAA)? | C22: This question asks whether the runway is equipped with a Runway End Safety Area (RESA) according to ICAO standards or the portion of the Runway Safety Area (RSA) at the end of the runway, as defined by FAA standards. It also requests the length of the RESA or RSA provided. RESA (ICAO): A RESA is an area symmetrical about the extended runway centerline and adjacent to the end of the strip. Its primary purpose is to reduce the risk of damage to an aircraft in the event of an undershoot or overrun. RSA (FAA): An RSA is a defined area surrounding the runway that is prepared to minimize damage in the event of an undershoot, overrun, or excursion from the runway. The portion of the RSA at the end of the runway serves a similar purpose to the RESA, providing a buffer zone to enhance safety in case of runway overruns or emergency situations. | D22: ICAO Annex 14 - Aerodromes, Volume I - Ch-3.5. click on this cell for further information about RSA
A23: 2.6 | B23: Is the RWY surface grooved? | C23: Indicate whether the runway surface is grooved, which is designed to improve friction and drainage, reduce the risk of hydroplaning, and enhance aircraft braking performance, especially in wet conditions. | D23: Aerodrome Design Manual (Doc 9157), Part 3 - Pavements, Ch-4.
A24: 2.7 | B24: RWY Approach category | C24: Classifies the runway based on the level of precision of the approach and landing system available, ranging from non-instrument approaches to highly precise CAT-III operations. Categories accommodate different levels of approach guidance and weather conditions. | D24: Aerodrome Design Manual (Doc 9157), Part 1 - Runways, Ch-1 Instrument Runway definition
A25: 2.8 | B25: Is the runway equipped with a Runway Status Lights (RWSL) system that automatically illuminates red in-pavement lights to warn of potential conflicts, independent of ATC clearances? | C25: Indicates whether the runway is equipped with Runway Status Lights (RWSL), a system designed to enhance runway safety by providing visual alerts to pilots and vehicle operators regarding runway occupancy and status. | D25: ICAO Annex 14 - Aerodromes, Volume I - Ch-5.3.30.
A26: 2.9 | B26: What is the critical aircraft(most demanding aircraft) of this runway? | C26: Asks for the identification of the critical aircraft using the runway, defined as the aircraft with the most demanding operational requirements for determining the aerodrome’s physical characteristics and safety standards. | D26: ICAO Annex 14 - Aerodromes, Volume I - Ch-5.3.4.
A29: 3. | B29: TAXIWAY | C29: This section pertains to various characteristics and features of taxiways, providing essential information for ground movement and navigation.
A30: 3.1 | B30: Number of Rapid Exit TWY (RET) | C30: The count of rapid exit taxiways available on the runway for aircraft to vacate quickly after landing, thereby reducing runway occupancy time and improving runway throughput. | D30: Doc 9157 Part-2, Ch-1.3
A31: 3.2 | B31: Number of End-Around Taxiways (EATs), specifically designed to allow aircraft to taxi around the runway end without crossing the active runway | C31: Asks for the number of End-Around Taxiways (EAT) at the airport. End-Around Taxiways are taxiways that allow aircraft to taxi around the end of a runway, enabling continuous runway operations without interrupting aircraft movements on the runway.
A32: 3.3 | B32: Does your airport have stopbars at all TWY/RWY intersections, or only at RWY entry points? | C32: Stopbars are safety devices installed at taxiway/runway intersections or runway entry points to manage the movement of aircraft and vehicles on the airfield. These illuminated bars, typically consisting of red lights embedded in the pavement, are designed to enhance safety by providing clear, visual signals that indicate when it is safe to proceed or when to stop. | D32: ICAO Annex 14 - Aerodromes, Volume I - Ch-5.3.20
A33: 3.4 | B33: Are stopbars operated at all times or only during Low Visibility Procedures(LVP)? | C33: Indicate whether your stopbars are lit continuously or only as needed.
A34: 3.5 | B34: Do you have Guard Lights (Wig Wags)? | C34: Runway incursions may take place in all visibility or weather conditions. The use of runway guard lights at runway-holding positions can form part of effective runway incursion prevention measures. Runway guard lights warn pilots and drivers of vehicles, when operating on taxiways, that they are about to enter a runway. | D34: ICAO Annex 14 - Aerodromes, Volume I - Ch-5.3.23
A35: 3.6 | B35: Does your airport allows intersection take-off? If yes, is there a TORA sign for the intersection take-off? | C35: Intersection take-off procedures refer to the practice of initiating a take-off from a point on the runway that is not at the runway threshold. Instead, the aircraft begins its take-off roll from an intermediate point along the runway, known as an intersection. | D35: ICAO Annex 14 - Aerodromes, Volume I - Ch-5.4.3.20
A37: 4. | B37: APRON | C37: This section pertains to various characteristics and features of the apron area, including parking areas, and associated equipment, providing essential information for aircraft parking and ground handling operations.
A38: 4.1 | B38: Total Number of Aircraft Stands | C38: The count of designated parking areas (aircraft stand) available on the apron for aircraft parking and servicing. This metric provides insight into the capacity and infrastructure available for accommodating aircraft at the airport. | D38: ICAO Annex 14 - Aerodromes, Volume I - Ch-3.13 and 9157-Airport Design Manual-Part 2-TWYs-Aprons-4th Edition 2005
A39: 4.2 | B39: Number of Remote Aircraft Stands defined as stands that are not equipped with Passenger Boarding Bridges (PBBs) | C39: The number of remote stands at an airport refers to the total count of parking positions for aircraft that are not directly connected to the terminal building via passenger boarding bridges (jet bridges). Passengers are typically transported to and from the terminal by buses or walk across the apron to reach these stands. | D39: ICAO Annex 14 - Aerodromes, Volume I 9157-Airport Design Manual-Part 2-TWYs-Aprons-4th Edition 2005
A40: 4.3 | B40: Is a surface movement guidance and control system (SMGCS) been provided at your airport? If so, which level? | C40: Surface Movement Guidance and Control System (SMGCS) is implemented at airports to safely manage aircraft and vehicle movements in low-visibility conditions. If your airport has an SMGCS, specify the level (Level 1, Level 2, etc.) based on the visibility conditions it supports. | D40: ICAO Doc 9830 FAA Advisory Circular 120-57A
A41: 4.4 | B41: Number of A-VDGS | C41: The count of Advanced Visual Docking Guidance Systems (A-VDGS) installed on the apron, which provide visual guidance to pilots during aircraft parking maneuvers, enhancing safety and efficiency. | D41: ICAO Annex 14 - Aerodromes, Volume I - Ch-5.3.26
A42: 4.5 | B42: Are the vehicles service roads located at the front or back side of aircraft stands? | C42: Indicates the presence of service roads located at the front or backside of the stands, facilitating vehicle access for ground handling and servicing activities.
A43: 4.6 | B43: Does your airport have alternative taxilanes or taxiways where differentiated markings (e.g., color, line type, or pattern) are used based on aircraft wingspan to improve traffic flow? | C43: To increase the flow of traffic in aircraft stand taxilanes, it may be found helpful to use alternative center lines (e.g. two Code C aircraft with maximum wingspan 36 m or one Code E aircraft with maximum wingspan 65 m). Minimum distances from center line to center line and/or center line to objects can be found in ICAO Annex 14, Volume 1, Table 3-1. | D43: ACI Apron Markings and Signs Handbook Third edition-2017
A44: 4.7 | B44: What type of pavement is used for the aircraft parking stands? | C44: The type of surface material or composition of the apron, such as asphalt, concrete, or combination.
A46: 5. | B46: GENERAL INFORMATION of the AIRPORT
A47: 5.1 | B47: Are there any identified Hot Spots? | C47: A location on an aerodrome movement area with a history or potential risk of collision or runway incursion, and where heightened attention by pilots/drivers is necessary. | D47: ICAO Annex 14 - Aerodromes, Volume I - Ch-1 Definitions.
A48: 5.2 | B48: If yes, are they published in the AIP? | C48: Indicates whether the hot spots are published in the Aeronautical Information Publication (AIP), ensuring pilots and drivers are aware of these areas and can take appropriate precautions.
A49: 5.3 | B49: Please specify the location of the Hot Spots | C49: Specifies the areas where hot spots are identified, including runways, taxiways, taxilanes, aprons, or other designated areas.
A50: 5.4 | B50: What is your airport RFF category? | C50: The Airport Rescue and Firefighting (RFF) category of an airport signifies its level of capability and preparedness to respond to aircraft accidents and emergencies. | D50: ICAO Annex 14, Volume I, Chapter 9, Section 9.1
A51: 5.5 | B51: Number of major RFF vehicles capable of directly discharging foam | C51: The total count of firefighting vehicles designated for Airport Rescue and Firefighting (RFF) operations at the airport, capable of directly discharging fire fighting foam. | D51: ICAO Annex 14, Volume I, Chapter 9, Section 9.1
A52: 5.6 | B52: Type of Firefighting Foam. | C52: Select the type of firefighting foam used at your airport. Firefighting foams are essential for suppressing liquid fuel-based fires during emergencies. | D52: ICAO Doc 9137 Part 1
A53: 5.7 | B53: Is Sustainable Aviation Fuel (SAF) available at your airport? | C53: Select “Yes” if SAF is available at your airport. Sustainable Aviation Fuels are an eco-friendly alternative to traditional fuels, reducing carbon emissions.
A54: 5.8 | B54: What is the blending ratio? | C54: Indicate the percentage of SAF mixed with conventional jet fuel.
A55: 5.9 | B55: What is the average amount of SAF available at the airport (in tons)? | C55: Specify the total quantity of SAF stocked or regularly supplied. | D55: ICAO Environmental Report 2022
A56: 5.10 | B56: Do you have noise abatement procedures at your airport? | C56: Choose “Yes” if your airport implements procedures to minimize noise impact, especially on surrounding communities.
A57: 5.11 | B57: Do you have a curfew? | C57: Curfew refers to specific restrictions on flight operations during certain times, usually overnight. Select “Yes” if such restrictions are enforced. | D57: ICAO Annex 16, Volume I, Chapter 2
C60: Pavement Maintenance Tab
A61: 7.1 | B61: If applicable, when did the runway undergo its last major reconstruction or rehabilitation works? (For example: full-depth replacement of the runway pavement over at least 50% of its length, runway overlay, etc.) | C61: Provide the date (month/year) when the runway last underwent significant reconstruction or rehabilitation work. Examples include major works like a full-depth replacement of more than 50% of the runway pavement or a complete overlay. This information helps in tracking the timeline of major repairs. | D61: ICAO Doc 9157, Part 3 - Pavements, FAA AC 150/5320-6F - Airport Pavement Design and Evaluation
A62: 7.2 | B62: Was the reconstruction full length or partial length? | C62: Indicate whether the reconstruction covered the entire length of the runway (full length) or only part of it (partial length). This helps assess the scope of the work carried out. | D62: ICAO Doc 9157, Part 3 - Pavements, FAA AC 150/5320-6F - Airport Pavement Design and Evaluation
A63: 7.3 | B63: Was this reconstruction undertaken before the pavement reached its planned design life? | C63: Specify whether the reconstruction occurred before the expected lifespan of the pavement. The planned design life is the period the pavement was intended to last without major reconstruction. This helps identify if the pavement failed prematurely. | D63: ICAO: ICAO Doc 9157, Part 3 - Pavements, FAA: FAA AC 150/5380-6F - Guidelines and Procedures for Maintenance of Airport Pavements
A64: 7.4 | B64: If yes, what was the reason for the early reconstruction? | C64: If the reconstruction was done before the pavement reached its planned design life, provide the reasons for this decision. Common reasons could include unexpected pavement distress, increased traffic load, or environmental conditions. | D64: ICAO Doc 9157, Part 3 - Pavements, FAA AC 150/5370-10H - Standards for Specifying Construction of Airports
A65: 7.5 | B65: Is the runway currently exhibiting any unexpected signs of pavement distress? (Examples include excessive cracking, spalling, scaling, rutting, shoving, blowups, or raveling.) | C65: Specify if there are any signs of unexpected damage or distress on the runway pavement. Examples include excessive cracking, rutting, spalling, and other forms of surface degradation that might compromise the integrity of the pavement. | D65: ICAO Doc 9157, Part 3 - Pavements, FAA AC 150/5370-10H - Standards for Specifying Construction of Airports
A66: 7.6 | B66: If so, please provide a brief description of the distress. | C66: If the runway is showing signs of distress, provide a short description of the issue(s), such as the location, type, and severity of the distress (e.g., “Cracking observed along the centerline, moderate severity”). | D66: ICAO Doc 9157, Part 3 - Pavements, FAA AC 150/5370-10H - Standards for Specifying Construction of Airports
A67: 7.7 | B67: Have you conducted a Pavement Condition Index (PCI) evaluation of the runway? | C67: Indicate whether a PCI evaluation has been performed for the runway. The PCI is a standard method for assessing the condition of pavement surfaces and helps determine the need for maintenance or repairs. | D67: ICAO Doc 9157, Part 3 - Pavements, FAA AC 150/5370-10H - Standards for Specifying Construction of Airports
A68: 7.8 | B68: If so, how frequently do you conduct PCI evaluations? | C68: Specify the frequency at which PCI evaluations are conducted (e.g., annually, every 2 years). Regular PCI evaluations help in monitoring the condition of the runway and planning for maintenance activities. | D68: ICAO Doc 9157, Part 3 - Pavements, FAA AC 150/5370-10H - Standards for Specifying Construction of Airports
A69: 7.9 | B69: When was the last time a non-destructive test (NDT) was conducted on the runway pavement? | C69: Provide the date (month/year) of the most recent non-destructive test (NDT) conducted on the runway pavement. NDTs are used to assess the internal condition of pavement without causing damage and are important for evaluating the overall health of the structure. | D69: ICAO Doc 9157, Part 3 - Pavements, FAA AC 150/5370-10H - Standards for Specifying Construction of Airports
A70: 7.10 | B70: Do you have a formal pavement management system in place at your airport? | C70: Indicate whether your airport uses a formal pavement management system (PMS) to monitor and manage the condition of its runways. A PMS helps in planning maintenance and optimizing pavement lifecycle costs. | D70: ICAO Doc 9157, Part 3 - Pavements, FAA AC 150/5370-10H - Standards for Specifying Construction of Airports
A71: 7.11 | B71: If so, how long has this system been in place? | C71: Provide the duration (in years) that the pavement management system has been in operation. This information helps assess the level of maturity and efficiency of the system. | D71: ICAO Doc 9157, Part 3 - Pavements, FAA AC 150/5370-10H - Standards for Specifying Construction of Airports
A72: 7.12 | B72: What design life do you use for your runway pavements? If it varies, please provide details on the reasons for the variation. | C72: Specify the design life, in years, used for your runway pavements. If the design life varies across different sections or runways, explain the reasons for this variation, such as differences in traffic load or environmental conditions. | D72: ICAO Doc 9157, Part 3 - Pavements, FAA AC 150/5370-10H - Standards for Specifying Construction of Airports
C74: Lagging Indicators Tab
A75: SPI-01 | B75: Runway Incursion | C75: A runway incursion refers to any occurrence at an aerodrome involving the incorrect presence of an aircraft, vehicle, or person on the protected area of a surface designated for the landing and take-off of the aircraft. For reporting purposes, each runway incursion should be assigned to the runway where the event occurred. Where multiple runways are involved, report the event under the most affected runway.
A76: SPI-01-A | B76: Aircraft | C76: The incorrect presence of an aircraft under its own power on the protected area of a surface designated for the landing and take-off of the aircraft.
A77: SPI-01-B | B77: Vehicle | C77: The incorrect presence of any vehicle, including aircraft being towed, on the protected area of a surface designated for the landing and take-off of the aircraft.
A78: SPI-01-C | B78: Person | C78: The incorrect presence of any individual(s) on the protected area of a surface designated for the landing and take-off of the aircraft.
A79: SPI-02 | B79: Runway Excursion | C79: A runway excursion is an incident where an aircraft veers off or overruns the runway surface during either takeoff or landing. Runway excursions are categorized as follows For reporting purposes, each runway excursion should be reported for the runway on which the event occurred (takeoff or landing runway).
A80: SPI-02-A | B80: Overrun | C80: An overrun is a type of runway excursion where an aircraft departs the end of the runway surface. This can occur during a landing when the aircraft is unable to stop within the available runway length or during an aborted takeoff.
A81: SPI-02-B | B81: Undershoot | C81: Undershoot refers to a situation during landing where an aircraft touches down before reaching the designated runway threshold. This can occur due to misjudgment, technical issues, or adverse weather conditions.
A82: SPI-02-C | B82: Veer-off | C82: A veer-off is another type of runway excursion where an aircraft departs the side of the runway surface. This typically occurs due to a loss of control, strong crosswinds, or navigational errors during takeoff, landing, or taxiing.
A84: SPI-03 | B84: Foreign Object Debris (FOD) on Runways (other than wildlife remains) | C84: Foreign Object Debris (FOD) refers to any object located in an inappropriate location in the airport environment that can damage aircraft, equipment, or personnel. FOD can be found on runways, taxiways, and aprons and can include items such as loose hardware, rocks, sand, or other debris.
A85: SPI-03-A | B85: Damage to aircraft due to FOD on runway | C85: Number of occurrences of damage to aircraft due to FOD on the runway.
A86: SPI-03-B | B86: FOD found on the runway | C86: Number of occurrences of FOD found on the runway.
A87: SPI-03-C | B87: Damage to aircraft due to FOD on taxiway | C87: Number of occurrences of damage to aircraft due to FOD on the taxiway.
... A100: SPI-04-H | B100: What was the type of aircraft involved?(Up to 5 Aircrafts) | C100: This question asks for the type of aircraft involved in incidents where a disabled aircraft was reported on the runway, taxiway, or apron. You can enter up to 5 events, prioritizing the most significant ones if there were more than 5. The aircraft types can be selected from the dropdown list provided. The list covers a variety of fixed-wing aircraft, helicopters, and other aviation types, including commercial airliners and general aviation aircraft. If the specific type of aircraft involved is not available in the list, please select the appropriate category, such as Other Wide-Body Aircraft, Other Narrow-Body Aircraft, General Aviation Aircraft, or Rotary-Wing Aircraft.
B102: TAXIWAY SAFETY | C102: Taxiway safety concerns incidents and accidents occurring on taxiways, including incursions, excursions, and collisions.
A103: SPI-05 | B103: Taxiway Incursion (TI) | C103: The incorrect presence of an aircraft, vehicle, or person on the designated taxiway surface.
A104: SPI-05-A | B104: Aircraft | C104: The incorrect presence of an aircraft on the taxiway surface under its own power.
A105: SPI-05-B | B105: Vehicle | C105: The incorrect presence of a vehicle on the taxiway surface, including aircraft being towed or pushed back.
A106: SPI-05-C | B106: Person | C106: The unauthorized presence of an individual(s) on the taxiway surface.
A107: SPI-06 | B107: Taxiway Excursion (TE) | C107: An aircraft departing the side or end of the paved taxiway surface.
A108: SPI-07 | B108: Taxiway Collision | C108: Any collision between two aircraft, an aircraft and a vehicle, an aircraft and a facility, or an aircraft and a person on the taxiway.
A109: SPI-07-A | B109: Aircraft-Aircraft | C109: Collision between aircrafts.
A110: SPI-07-B | B110: Aircraft-Vehicle | C110: Collision between aircraft and vehicle.
A111: SPI-07-C | B111: Aircraft-Facility | C111: Collision between aircraft and facility.
A112: SPI-07-D | B112: Aircraft-Person | C112: Collision between aircraft and person.
B114: APRON SAFETY | C114: Apron Safety Apron safety addresses incidents and accidents occurring on airport aprons, including various types of collisions.
A115: SPI-08 | B115: Collision on Apron | C115: Any collision occurring on the apron involving aircraft, vehicles, and other objects or persons.
A116: SPI-08-A | B116: Aircraft - Aircraft (one is parked) | C116: Collision between a moving aircraft and a parked aircraft.
A117: SPI-08-B | B117: Aircraft - Aircraft (both moving) | C117: Collision between two moving aircraft.
A118: SPI-08-C | B118: Aircraft - Vehicle | C118: Collision between an aircraft and a vehicle.
A119: SPI-08-D | B119: Aircraft - Fixed Object | C119: Collision between an aircraft and a fixed object.
A120: SPI-08-E | B120: Vehicle - Vehicle | C120: Collision between two vehicles.
A121: SPI-08-F | B121: Vehicle - Fixed Object | C121: Collision between a vehicle and a fixed object.
A122: SPI-08-G | B122: Vehicle - Person | C122: Collision between a vehicle and a person.
A123: SPI-09 | B123: Number of major fuel spillage (>1m2) | C123: Fuel spillage refers to the unintentional release of fuel from an aircraft or fuel equipment onto the airport surface. This metric tracks the number of incidents where fuel spillage occurs in an area greater than 1 square meter. These spillages are considered major and typically involve more extensive cleanup operations and potentially greater impact on airport operations. | D123: AC 150/5230-4B on Aircraft Fuel Storage, Handling, and Dispensing on Airports
...

Sheet Data_Validation
B1: 1. General Information
B3: ACI Regions | D3: Legislative Bodies | F3: Surface Type | H3: Aircraft Types
B4: Africa | D4: ICAO | F4: All in asphalt | H4: Airbus A220
B5: Asia-Pacific & Middle East | D5: FAA | F5: All in concrete | H5: Airbus A300
B6: Europe | D6: EASA | F6: Combination (some in asphalt and some in concrete) | H6: Airbus A310
B7: Latin America-Caribbean | F7: Other | H7: Airbus A318
B8: North America | H8: Airbus A319
H9: Airbus A320
H10: Airbus A321
B11: Yes and No | D11: Measurement System | F11: RESA (Excluding Strip) | H11: Airbus A330
B12: Yes | D12: Meter | F12: None | H12: Airbus A340
B13: No | D13: Feet | F13: RESA: Less than 90m | H13: Airbus A350
B14: I don't know. | F14: RESA: 90m | H14: Airbus A380
F15: RESA: Between 90m and 240m | H15: ATR 42/72
F16: RESA: 240m | H16: BAe 146 / Avro RJ
B17: Intersection take-off | D17: Stopbars Availability | F17: RESA: More than 240m | H17: Beech 1900D
B18: No | D18: Yes | F18: RSA: 600 feet | H18: Boeing 717
B19: Yes, but no signage | D19: Only at runway entry points | F19: RSA: 1,000 feet | H19: Boeing 737
B20: Yes, and have signage but not lit | D20: Some intersections, but not at all | F20: RSA: More than 1,000 feet | H20: Boeing 737 NG / Max
B21: Yes, and have signage and are lit | D21: Not installed | H21: Boeing 747
H22: Boeing 757
H23: Boeing 767
B24: SMCGS | D24: Service Roads front or backside | F24: Type of Firefighting Foam | H24: Boeing 777
B25: Not provided | D25: Front/head of stand at all locations | F25: Protein foam. | H25: Boeing 787
B26: Level-1 | D26: Back/tail of stand at all locations | F26: Fluoroprotein foam (conventional). | H26: Canadair Regional Jet
B27: Level-2 | D27: Both front and back of stand at all locations | F27: Aqueous Film Forming Foam (AFFF). | H27: Comac ARJ21
B28: Level-3 | D28: Some locations front of stand / some locations back of stand | F28: Film Forming Fluoroprotein (FFFP) foams. | H28: Comac C919
B29: Level-4 | F29: Synthetic Foams. | H29: Concorde
F30: Synthetic Fluorine-free foams (SFFF) or Fluorine-free foams | H30: Dash 8
H31: Embraer 120 Brasilia
B32: Curfew | D32: ARFF Category or Index | F32: Runway Category | H32: Embraer 135/145
B33: No | D33: 1 | F33: Non-Instrument | H33: Embraer 170/175
B34: Yes, between 1 and 2 hours | D34: 2 | F34: Non-Precision | H34: Embraer 190/195
B35: Yes, between 2 and 4 hours | D35: 3 | F35: CAT-I | H35: Fokker 50
B36: Yes, Between 4 and 6 hours | D36: 4 | F36: CAT-II | H36: Fokker 70/100
B37: Yes, more than 6 hours | D37: 5 | F37: CAT-III A | H37: Ilyushin Il-96
D38: 6 | F38: CAT-III B | H38: Irkut MC-21
D39: 7 | F39: CAT-III C | H39: Lockheed L-1011 TriStar
B40: SAF blend ratio | D40: 8 | H40: McDonnell Douglas DC-10
B41: 2% or less SAF/ 98% or more Conventional Jet Fuel | D41: 9 | H41: McDonnell Douglas MD-11
B42: 3% to 5% SAF/ 95% or more Conventional Jet Fuel | D42: 10 | F42: Stopbars Operability | H42: McDonnell Douglas MD-80/90
B43: 6% to 9% SAF/ 91% or more Conventional Jet Fuel | D43: A | F43: At all times | H43: Mitsubishi SpaceJet
B44: 10% SAF/ 90% Conventional Jet Fuel | D44: B | F44: LVP only | H44: Saab 2000
B45: 20% SAF/ 80% Conventional Jet Fuel | D45: C | F45: Some are in operation at all times | H45: Saab 340
B46: 30% SAF/ 70% Conventional Jet Fuel | D46: D | F46: Not applicable | H46: Sukhoi SuperJet 100
B47: 50% SAF/ 50% Conventional Jet Fuel | D47: E | H47: Helicopter
B48: 100% SAF | H48: Military Aircraft
H49: Unmanned Aerial Vehicle (UAV/Drone)
H50: General Aviation Aircraft
H51: Other Wide-Body Aircraft
H52: Other Narrow-Body Aircraft
H53: Other Rotary-Wing Aircraft
B55: 2. Pavement Maintenance
B57: Reconstruction | D57: Pavement Inspection frequency | F57: Pavement management system
B58: Full length | D58: Once a year | F58: Less than 1 year
B59: Partial length | D59: Every two years | F59: Between 1 and 5 years
D60: Every three years | F60: Between 5 and 10 years
D61: Every four years or more | F61: More than 10 years
B63: 3. Lagging Indicators
B65: Airport Disabled aircraft plan | D65: Airlines Disabled aircraft removal
B66: Equipment and plan | D66: All operators
B67: Only equipment (on-site or external) | D67: Most operators
B68: Only plan | D68: Some of the operators
B69: Neither equipment nor plan | D69: None of the operators
D70: Only the main carrier
B73: 4. Leading Indicators
B75: Airside training intervals | D75: ADP | F75: RST Lead
B76: No Records | D76: No applicable | F76: CAA
B77: None | D77: Two-zone classification permit | F77: Airport Operator
B78: Less than 1 year | D78: Three-zone classification permit | F78: Air Navigation Service Provider(ANSP)
B79: Every 1 year | D79: Four-zone classification permit | F79: Joint Lead (multiple stakeholders)
B80: Every 2 years | F80: Other Stakeholders
B81: More than 2 years

Sheet Consolidated_Data
A1: Tab 1. General Information
A2: 1.Identification of the Airport
A3: AirportName | B3: AirportCode | C3: ACIRegion | D3: ATM | E3: CertifiedByCAA | F3: CertificationDate | G3: MeasurementSystem | H3: LegislativeBody | I3: Name | J3: JobTtile | K3: Email | L3: Data Year
A4: =IF('1. General Information'!$G$3="","",'1. General Information'!$G$3) | B4: =IF('1. General Information'!$G$4="","",'1. General Information'!$G$4) | C4: =IF('1. General Information'!$G$5="","",'1. General Information'!$G$5) | D4: =IF('1. General Information'!$G$6="","",'1. General Information'!$G$6) | E4: =IF('1. General Information'!$G$7="","",'1. General Information'!$G$7) | F4: =IF('1. General Information'!$G$8="","",'1. General Information'!$G$8) | G4: =IF('1. General Information'!$G$9="","",'1. General Information'!$G$9) | H4: =IF('1. General Information'!$G$10="","",'1. General Information'!$G$10) | I4: =IF('1. General Information'!$G$11="","",'1. General Information'!$G$11) | J4: =IF('1. General Information'!$G$12="","",'1. General Information'!$G$12) | K4: =IF('1. General Information'!$G$13="","",'1. General Information'!$G$13) | L4: =IF('1. General Information'!$G$14="","",'1. General Information'!$G$14)
A6: 2.Runway (RWY) Information
A7: AirportCode | B7: Data Year | C7: RunwayID | D7: Designation | E7: Surface | F7: Length | G7: Width | H7: RESA | I7: Grooved | J7: AproachCategory | K7: RWSL | L7: CriticalAircraft | M7: RI_Aircraft | N7: RI_Vehicle | O7: RI_Person | P7: RE_Overrun | Q7: RE_Undershoot | R7: RE_VeerOff
A8: =IF('1. General Information'!$G$4="","",'1. General Information'!$G$4) | B8: =IF('1. General Information'!$G$14="","",'1. General Information'!$G$14) | C8: 1 | D8: =IF('1. General Information'!$D19="","",'1. General Information'!$D19) | E8: =IF('1. General Information'!$E19="","",'1. General Information'!$E19) | F8: =IF(LEN(TRIM('1. General Information'!$F19))=0,"", IF('1. General Information'!$G$9="Feet", '1. General Information'!$F19*0.3048, '1. General Information'!$F19 ) ) | G8: =IF(LEN(TRIM('1. General Information'!$G19))=0,"", IF('1. General Information'!$G$9="Feet", '1. General Information'!$G19*0.3048, '1. General Information'!$G19 ) ) | H8: =IF('1. General Information'!$H19="","",'1. General Information'!$H19) | I8: =IF('1. General Information'!I19="","",'1. General Information'!I19) | J8: =IF('1. General Information'!J19="","",'1. General Information'!J19) | K8: =IF('1. General Information'!K19="","",'1. General Information'!K19) | L8: =IF('1. General Information'!L19="","",'1. General Information'!L19) | M8: =IF(LEN('3. Lagging Indicators'!$D$5)=0,"",'3. Lagging Indicators'!$D$5) | N8: =IF(LEN('3. Lagging Indicators'!$D$6)=0,"",'3. Lagging Indicators'!$D$6) | O8: =IF(LEN('3. Lagging Indicators'!$D$7)=0,"",'3. Lagging Indicators'!$D$7) | P8: =IF(LEN('3. Lagging Indicators'!$D$9)=0,"",'3. Lagging Indicators'!$D$9) | Q8: =IF(LEN('3. Lagging Indicators'!$D$10)=0,"",'3. Lagging Indicators'!$D$10) | R8: =IF(LEN('3. Lagging Indicators'!$D$11)=0,"",'3. Lagging Indicators'!$D$11)
A9: =IF('1. General Information'!$G$4="","",'1. General Information'!$G$4) | B9: =IF('1. General Information'!$G$14="","",'1. General Information'!$G$14) | C9: 1 | D9: =IF('1. General Information'!$D20="","",'1. General Information'!$D20) | E9: =IF('1. General Information'!$E20="","",'1. General Information'!$E20) | F9: =IF(LEN(TRIM('1. General Information'!$F20))=0,"", IF('1. General Information'!$G$9="Feet", '1. General Information'!$F20*0.3048, '1. General Information'!$F20 ) ) | G9: =IF(LEN(TRIM('1. General Information'!$G20))=0,"", IF('1. General Information'!$G$9="Feet", '1. General Information'!$G20*0.3048, '1. General Information'!$G20 ) ) | H9: =IF('1. General Information'!$H20="","",'1. General Information'!$H20) | I9: =IF('1. General Information'!I20="","",'1. General Information'!I20) | J9: =IF('1. General Information'!J20="","",'1. General Information'!J20) | K9: =IF('1. General Information'!K20="","",'1. General Information'!K20) | L9: =IF('1. General Information'!L20="","",'1. General Information'!L20)
A10: =IF('1. General Information'!$G$4="","",'1. General Information'!$G$4) | B10: =IF('1. General Information'!$G$14="","",'1. General Information'!$G$14) | C10: 2 | D10: =IF('1. General Information'!$D21="","",'1. General Information'!$D21) | E10: =IF('1. General Information'!$E21="","",'1. General Information'!$E21) | F10: =IF(LEN(TRIM('1. General Information'!$F21))=0,"", IF('1. General Information'!$G$9="Feet", '1. General Information'!$F21*0.3048, '1. General Information'!$F21 ) ) | G10: =IF(LEN(TRIM('1. General Information'!$G21))=0,"", IF('1. General Information'!$G$9="Feet", '1. General Information'!$G21*0.3048, '1. General Information'!$G21 ) ) | H10: =IF('1. General Information'!$H21="","",'1. General Information'!$H21) | I10: =IF('1. General Information'!I21="","",'1. General Information'!I21) | J10: =IF('1. General Information'!J21="","",'1. General Information'!J21) | K10: =IF('1. General Information'!K21="","",'1. General Information'!K21) | L10: =IF('1. General Information'!L21="","",'1. General Information'!L21) | M10: =IF(LEN('3. Lagging Indicators'!$E$5)=0,"",'3. Lagging Indicators'!$E$5) | N10: =IF(LEN('3. Lagging Indicators'!$E$6)=0,"",'3. Lagging Indicators'!$E$6) | O10: =IF(LEN('3. Lagging Indicators'!$E$7)=0,"",'3. Lagging Indicators'!$E$7) | P10: =IF(LEN('3. Lagging Indicators'!$E$9)=0,"",'3. Lagging Indicators'!$E$9) | Q10: =IF(LEN('3. Lagging Indicators'!$E$10)=0,"",'3. Lagging Indicators'!$E$10) | R10: =IF(LEN('3. Lagging Indicators'!$E$11)=0,"",'3. Lagging Indicators'!$E$11)
A11: =IF('1. General Information'!$G$4="","",'1. General Information'!$G$4) | B11: =IF('1. General Information'!$G$14="","",'1. General Information'!$G$14) | C11: 2 | D11: =IF('1. General Information'!$D22="","",'1. General Information'!$D22) | E11: =IF('1. General Information'!$E22="","",'1. General Information'!$E22) | F11: =IF(LEN(TRIM('1. General Information'!$F22))=0,"", IF('1. General Information'!$G$9="Feet", '1. General Information'!$F22*0.3048, '1. General Information'!$F22 ) ) | G11: =IF(LEN(TRIM('1. General Information'!$G22))=0,"", IF('1. General Information'!$G$9="Feet", '1. General Information'!$G22*0.3048, '1. General Information'!$G22 ) ) | H11: =IF('1. General Information'!$H22="","",'1. General Information'!$H22) | I11: =IF('1. General Information'!I22="","",'1. General Information'!I22) | J11: =IF('1. General Information'!J22="","",'1. General Information'!J22) | K11: =IF('1. General Information'!K22="","",'1. General Information'!K22) | L11: =IF('1. General Information'!L22="","",'1. General Information'!L22)
A12: =IF('1. General Information'!$G$4="","",'1. General Information'!$G$4) | B12: =IF('1. General Information'!$G$14="","",'1. General Information'!$G$14) | C12: 3 | D12: =IF('1. General Information'!$D23="","",'1. General Information'!$D23) | E12: =IF('1. General Information'!$E23="","",'1. General Information'!$E23) | F12: =IF(LEN(TRIM('1. General Information'!$F23))=0,"", IF('1. General Information'!$G$9="Feet", '1. General Information'!$F23*0.3048, '1. General Information'!$F23 ) ) | G12: =IF(LEN(TRIM('1. General Information'!$G23))=0,"", IF('1. General Information'!$G$9="Feet", '1. General Information'!$G23*0.3048, '1. General Information'!$G23 ) ) | H12: =IF('1. General Information'!$H23="","",'1. General Information'!$H23) | I12: =IF('1. General Information'!I23="","",'1. General Information'!I23) | J12: =IF('1. General Information'!J23="","",'1. General Information'!J23) | K12: =IF('1. General Information'!K23="","",'1. General Information'!K23) | L12: =IF('1. General Information'!L23="","",'1. General Information'!L23) | M12: =IF(LEN('3. Lagging Indicators'!$F$5)=0,"",'3. Lagging Indicators'!$F$5) | N12: =IF(LEN('3. Lagging Indicators'!$F$6)=0,"",'3. Lagging Indicators'!$F$6) | O12: =IF(LEN('3. Lagging Indicators'!$F$7)=0,"",'3. Lagging Indicators'!$F$7) | P12: =IF(LEN('3. Lagging Indicators'!$F$9)=0,"",'3. Lagging Indicators'!$F$9) | Q12: =IF(LEN('3. Lagging Indicators'!$F$10)=0,"",'3. Lagging Indicators'!$F$10) | R12: =IF(LEN('3. Lagging Indicators'!$F$11)=0,"",'3. Lagging Indicators'!$F$11)
A13: =IF('1. General Information'!$G$4="","",'1. General Information'!$G$4) | B13: =IF('1. General Information'!$G$14="","",'1. General Information'!$G$14) | C13: 3 | D13: =IF('1. General Information'!$D24="","",'1. General Information'!$D24) | E13: =IF('1. General Information'!$E24="","",'1. General Information'!$E24) | F13: =IF(LEN(TRIM('1. General Information'!$F24))=0,"", IF('1. General Information'!$G$9="Feet", '1. General Information'!$F24*0.3048, '1. General Information'!$F24 ) ) | G13: =IF(LEN(TRIM('1. General Information'!$G24))=0,"", IF('1. General Information'!$G$9="Feet", '1. General Information'!$G24*0.3048, '1. General Information'!$G24 ) ) | H13: =IF('1. General Information'!$H24="","",'1. General Information'!$H24) | I13: =IF('1. General Information'!I24="","",'1. General Information'!I24) | J13: =IF('1. General Information'!J24="","",'1. General Information'!J24) | K13: =IF('1. General Information'!K24="","",'1. General Information'!K24) | L13: =IF('1. General Information'!L24="","",'1. General Information'!L24)
A14: =IF('1. General Information'!$G$4="","",'1. General Information'!$G$4) | B14: =IF('1. General Information'!$G$14="","",'1. General Information'!$G$14) | C14: 4 | D14: =IF('1. General Information'!$D25="","",'1. General Information'!$D25) | E14: =IF('1. General Information'!$E25="","",'1. General Information'!$E25) | F14: =IF(LEN(TRIM('1. General Information'!$F25))=0,"", IF('1. General Information'!$G$9="Feet", '1. General Information'!$F25*0.3048, '1. General Information'!$F25 ) ) | G14: =IF(LEN(TRIM('1. General Information'!$G25))=0,"", IF('1. General Information'!$G$9="Feet", '1. General Information'!$G25*0.3048, '1. General Information'!$G25 ) ) | H14: =IF('1. General Information'!$H25="","",'1. General Information'!$H25) | I14: =IF('1. General Information'!I25="","",'1. General Information'!I25) | J14: =IF('1. General Information'!J25="","",'1. General Information'!J25) | K14: =IF('1. General Information'!K25="","",'1. General Information'!K25) | L14: =IF('1. General Information'!L25="","",'1. General Information'!L25) | M14: =IF(LEN('3. Lagging Indicators'!$G$5)=0,"",'3. Lagging Indicators'!$G$5) | N14: =IF(LEN('3. Lagging Indicators'!$G$6)=0,"",'3. Lagging Indicators'!$G$6) | O14: =IF(LEN('3. Lagging Indicators'!$G$7)=0,"",'3. Lagging Indicators'!$G$7) | P14: =IF(LEN('3. Lagging Indicators'!$G$9)=0,"",'3. Lagging Indicators'!$G$9) | Q14: =IF(LEN('3. Lagging Indicators'!$G$10)=0,"",'3. Lagging Indicators'!$G$10) | R14: =IF(LEN('3. Lagging Indicators'!$G$11)=0,"",'3. Lagging Indicators'!$G$11)
A15: =IF('1. General Information'!$G$4="","",'1. General Information'!$G$4) | B15: =IF('1. General Information'!$G$14="","",'1. General Information'!$G$14) | C15: 4 | D15: =IF('1. General Information'!$D26="","",'1. General Information'!$D26) | E15: =IF('1. General Information'!$E26="","",'1. General Information'!$E26) | F15: =IF(LEN(TRIM('1. General Information'!$F26))=0,"", IF('1. General Information'!$G$9="Feet", '1. General Information'!$F26*0.3048, '1. General Information'!$F26 ) ) | G15: =IF(LEN(TRIM('1. General Information'!$G26))=0,"", IF('1. General Information'!$G$9="Feet", '1. General Information'!$G26*0.3048, '1. General Information'!$G26 ) ) | H15: =IF('1. General Information'!$H26="","",'1. General Information'!$H26) | I15: =IF('1. General Information'!I26="","",'1. General Information'!I26) | J15: =IF('1. General Information'!J26="","",'1. General Information'!J26) | K15: =IF('1. General Information'!K26="","",'1. General Information'!K26) | L15: =IF('1. General Information'!L26="","",'1. General Information'!L26)
A16: =IF('1. General Information'!$G$4="","",'1. General Information'!$G$4) | B16: =IF('1. General Information'!$G$14="","",'1. General Information'!$G$14) | C16: 5 | D16: =IF('1. General Information'!$D27="","",'1. General Information'!$D27) | E16: =IF('1. General Information'!$E27="","",'1. General Information'!$E27) | F16: =IF(LEN(TRIM('1. General Information'!$F27))=0,"", IF('1. General Information'!$G$9="Feet", '1. General Information'!$F27*0.3048, '1. General Information'!$F27 ) ) | G16: =IF(LEN(TRIM('1. General Information'!$G27))=0,"", IF('1. General Information'!$G$9="Feet", '1. General Information'!$G27*0.3048, '1. General Information'!$G27 ) ) | H16: =IF('1. General Information'!$H27="","",'1. General Information'!$H27) | I16: =IF('1. General Information'!I27="","",'1. General Information'!I27) | J16: =IF('1. General Information'!J27="","",'1. General Information'!J27) | K16: =IF('1. General Information'!K27="","",'1. General Information'!K27) | L16: =IF('1. General Information'!L27="","",'1. General Information'!L27) | M16: =IF(LEN('3. Lagging Indicators'!$H$5)=0,"",'3. Lagging Indicators'!$H$5) | N16: =IF(LEN('3. Lagging Indicators'!$H$6)=0,"",'3. Lagging Indicators'!$H$6) | O16: =IF(LEN('3. Lagging Indicators'!$H$7)=0,"",'3. Lagging Indicators'!$H$7) | P16: =IF(LEN('3. Lagging Indicators'!$H$9)=0,"",'3. Lagging Indicators'!$H$9) | Q16: =IF(LEN('3. Lagging Indicators'!$H$10)=0,"",'3. Lagging Indicators'!$H$10) | R16: =IF(LEN('3. Lagging Indicators'!$H$11)=0,"",'3. Lagging Indicators'!$H$11)
A17: =IF('1. General Information'!$G$4="","",'1. General Information'!$G$4) | B17: =IF('1. General Information'!$G$14="","",'1. General Information'!$G$14) | C17: 5 | D17: =IF('1. General Information'!$D28="","",'1. General Information'!$D28) | E17: =IF('1. General Information'!$E28="","",'1. General Information'!$E28) | F17: =IF(LEN(TRIM('1. General Information'!$F28))=0,"", IF('1. General Information'!$G$9="Feet", '1. General Information'!$F28*0.3048, '1. General Information'!$F28 ) ) | G17: =IF(LEN(TRIM('1. General Information'!$G28))=0,"", IF('1. General Information'!$G$9="Feet", '1. General Information'!$G28*0.3048, '1. General Information'!$G28 ) ) | H17: =IF('1. General Information'!$H28="","",'1. General Information'!$H28) | I17: =IF('1. General Information'!I28="","",'1. General Information'!I28) | J17: =IF('1. General Information'!J28="","",'1. General Information'!J28) | K17: =IF('1. General Information'!K28="","",'1. General Information'!K28) | L17: =IF('1. General Information'!L28="","",'1. General Information'!L28)
A18: =IF('1. General Information'!$G$4="","",'1. General Information'!$G$4) | B18: =IF('1. General Information'!$G$14="","",'1. General Information'!$G$14) | C18: 6 | D18: =IF('1. General Information'!$D29="","",'1. General Information'!$D29) | E18: =IF('1. General Information'!$E29="","",'1. General Information'!$E29) | F18: =IF(LEN(TRIM('1. General Information'!$F29))=0,"", IF('1. General Information'!$G$9="Feet", '1. General Information'!$F29*0.3048, '1. General Information'!$F29 ) ) | G18: =IF(LEN(TRIM('1. General Information'!$G29))=0,"", IF('1. General Information'!$G$9="Feet", '1. General Information'!$G29*0.3048, '1. General Information'!$G29 ) ) | H18: =IF('1. General Information'!$H29="","",'1. General Information'!$H29) | I18: =IF('1. General Information'!I29="","",'1. General Information'!I29) | J18: =IF('1. General Information'!J29="","",'1. General Information'!J29) | K18: =IF('1. General Information'!K29="","",'1. General Information'!K29) | L18: =IF('1. General Information'!L29="","",'1. General Information'!L29) | M18: =IF(LEN('3. Lagging Indicators'!$I$5)=0,"",'3. Lagging Indicators'!$I$5) | N18: =IF(LEN('3. Lagging Indicators'!$I$6)=0,"",'3. Lagging Indicators'!$I$6) | O18: =IF(LEN('3. Lagging Indicators'!$I$7)=0,"",'3. Lagging Indicators'!$I$7) | P18: =IF(LEN('3. Lagging Indicators'!$I$9)=0,"",'3. Lagging Indicators'!$I$9) | Q18: =IF(LEN('3. Lagging Indicators'!$I$10)=0,"",'3. Lagging Indicators'!$I$10) | R18: =IF(LEN('3. Lagging Indicators'!$I$11)=0,"",'3. Lagging Indicators'!$I$11)
A19: =IF('1. General Information'!$G$4="","",'1. General Information'!$G$4) | B19: =IF('1. General Information'!$G$14="","",'1. General Information'!$G$14) | C19: 6 | D19: =IF('1. General Information'!$D30="","",'1. General Information'!$D30) | E19: =IF('1. General Information'!$E30="","",'1. General Information'!$E30) | F19: =IF(LEN(TRIM('1. General Information'!$F30))=0,"", IF('1. General Information'!$G$9="Feet", '1. General Information'!$F30*0.3048, '1. General Information'!$F30 ) ) | G19: =IF(LEN(TRIM('1. General Information'!$G30))=0,"", IF('1. General Information'!$G$9="Feet", '1. General Information'!$G30*0.3048, '1. General Information'!$G30 ) ) | H19: =IF('1. General Information'!$H30="","",'1. General Information'!$H30) | I19: =IF('1. General Information'!I30="","",'1. General Information'!I30) | J19: =IF('1. General Information'!J30="","",'1. General Information'!J30) | K19: =IF('1. General Information'!K30="","",'1. General Information'!K30) | L19: =IF('1. General Information'!L30="","",'1. General Information'!L30)
A20: =IF('1. General Information'!$G$4="","",'1. General Information'!$G$4) | B20: =IF('1. General Information'!$G$14="","",'1. General Information'!$G$14) | C20: 7 | D20: =IF('1. General Information'!$D31="","",'1. General Information'!$D31) | E20: =IF('1. General Information'!$E31="","",'1. General Information'!$E31) | F20: =IF(LEN(TRIM('1. General Information'!$F31))=0,"", IF('1. General Information'!$G$9="Feet", '1. General Information'!$F31*0.3048, '1. General Information'!$F31 ) ) | G20: =IF(LEN(TRIM('1. General Information'!$G31))=0,"", IF('1. General Information'!$G$9="Feet", '1. General Information'!$G31*0.3048, '1. General Information'!$G31 ) ) | H20: =IF('1. General Information'!$H31="","",'1. General Information'!$H31) | I20: =IF('1. General Information'!I31="","",'1. General Information'!I31) | J20: =IF('1. General Information'!J31="","",'1. General Information'!J31) | K20: =IF('1. General Information'!K31="","",'1. General Information'!K31) | L20: =IF('1. General Information'!L31="","",'1. General Information'!L31) | M20: =IF(LEN('3. Lagging Indicators'!$J$5)=0,"",'3. Lagging Indicators'!$J$5) | N20: =IF(LEN('3. Lagging Indicators'!$J$6)=0,"",'3. Lagging Indicators'!$J$6) | O20: =IF(LEN('3. Lagging Indicators'!$J$7)=0,"",'3. Lagging Indicators'!$J$7) | P20: =IF(LEN('3. Lagging Indicators'!$J$9)=0,"",'3. Lagging Indicators'!$J$9) | Q20: =IF(LEN('3. Lagging Indicators'!$J$10)=0,"",'3. Lagging Indicators'!$J$10) | R20: =IF(LEN('3. Lagging Indicators'!$J$11)=0,"",'3. Lagging Indicators'!$J$11)
A21: =IF('1. General Information'!$G$4="","",'1. General Information'!$G$4) | B21: =IF('1. General Information'!$G$14="","",'1. General Information'!$G$14) | C21: 7 | D21: =IF('1. General Information'!$D32="","",'1. General Information'!$D32) | E21: =IF('1. General Information'!$E32="","",'1. General Information'!$E32) | F21: =IF(LEN(TRIM('1. General Information'!$F32))=0,"", IF('1. General Information'!$G$9="Feet", '1. General Information'!$F32*0.3048, '1. General Information'!$F32 ) ) | G21: =IF(LEN(TRIM('1. General Information'!$G32))=0,"", IF('1. General Information'!$G$9="Feet", '1. General Information'!$G32*0.3048, '1. General Information'!$G32 ) ) | H21: =IF('1. General Information'!$H32="","",'1. General Information'!$H32) | I21: =IF('1. General Information'!I32="","",'1. General Information'!I32) | J21: =IF('1. General Information'!J32="","",'1. General Information'!J32) | K21: =IF('1. General Information'!K32="","",'1. General Information'!K32) | L21: =IF('1. General Information'!L32="","",'1. General Information'!L32)
A22: =IF('1. General Information'!$G$4="","",'1. General Information'!$G$4) | B22: =IF('1. General Information'!$G$14="","",'1. General Information'!$G$14) | C22: 8 | D22: =IF('1. General Information'!$D33="","",'1. General Information'!$D33) | E22: =IF('1. General Information'!$E33="","",'1. General Information'!$E33) | F22: =IF(LEN(TRIM('1. General Information'!$F33))=0,"", IF('1. General Information'!$G$9="Feet", '1. General Information'!$F33*0.3048, '1. General Information'!$F33 ) ) | G22: =IF(LEN(TRIM('1. General Information'!$G33))=0,"", IF('1. General Information'!$G$9="Feet", '1. General Information'!$G33*0.3048, '1. General Information'!$G33 ) ) | H22: =IF('1. General Information'!$H33="","",'1. General Information'!$H33) | I22: =IF('1. General Information'!I33="","",'1. General Information'!I33) | J22: =IF('1. General Information'!J33="","",'1. General Information'!J33) | K22: =IF('1. General Information'!K33="","",'1. General Information'!K33) | L22: =IF('1. General Information'!L33="","",'1. General Information'!L33) | M22: =IF(LEN('3. Lagging Indicators'!$K$5)=0,"",'3. Lagging Indicators'!$K$5) | N22: =IF(LEN('3. Lagging Indicators'!$K$6)=0,"",'3. Lagging Indicators'!$K$6) | O22: =IF(LEN('3. Lagging Indicators'!$K$7)=0,"",'3. Lagging Indicators'!$K$7) | P22: =IF(LEN('3. Lagging Indicators'!$K$9)=0,"",'3. Lagging Indicators'!$K$9) | Q22: =IF(LEN('3. Lagging Indicators'!$K$10)=0,"",'3. Lagging Indicators'!$K$10) | R22: =IF(LEN('3. Lagging Indicators'!$K$11)=0,"",'3. Lagging Indicators'!$K$11)
A23: =IF('1. General Information'!$G$4="","",'1. General Information'!$G$4) | B23: =IF('1. General Information'!$G$14="","",'1. General Information'!$G$14) | C23: 8 | D23: =IF('1. General Information'!$D34="","",'1. General Information'!$D34) | E23: =IF('1. General Information'!$E34="","",'1. General Information'!$E34) | F23: =IF(LEN(TRIM('1. General Information'!$F34))=0,"", IF('1. General Information'!$G$9="Feet", '1. General Information'!$F34*0.3048, '1. General Information'!$F34 ) ) | G23: =IF(LEN(TRIM('1. General Information'!$G34))=0,"", IF('1. General Information'!$G$9="Feet", '1. General Information'!$G34*0.3048, '1. General Information'!$G34 ) ) | H23: =IF('1. General Information'!$H34="","",'1. General Information'!$H34) | I23: =IF('1. General Information'!I34="","",'1. General Information'!I34) | J23: =IF('1. General Information'!J34="","",'1. General Information'!J34) | K23: =IF('1. General Information'!K34="","",'1. General Information'!K34) | L23: =IF('1. General Information'!L34="","",'1. General Information'!L34)
A25: 3.Taxiway (TWY) Information
A26: AirportCode | B26: Data Year | C26: RET | D26: EAT | E26: Stopbars | F26: StopbarsLit | G26: GuardLight | H26: IntersectionTakeoff
A27: =IF('1. General Information'!$G$4="","",'1. General Information'!$G$4) | B27: =IF('1. General Information'!$G$14="","",'1. General Information'!$G$14) | C27: =IF('1. General Information'!$C$39="","",'1. General Information'!$C$39) | D27: =IF('1. General Information'!$D$39="","",'1. General Information'!$D$39) | E27: =IF('1. General Information'!$E$39="","",'1. General Information'!$E$39) | F27: =IF('1. General Information'!$F$39="","",'1. General Information'!$F$39) | G27: =IF('1. General Information'!$G$39="","",'1. General Information'!$G$39) | H27: =IF('1. General Information'!$H$39="","",'1. General Information'!$H$39)
A29: 4.Apron Information
A30: AirportCode | B30: Data Year | C30: Stands | D30: RemoteStands | E30: SMGCS | F30: A_VDGS | G30: ServiceRoad | H30: AlterntiveTaxiway | I30: Pavement
A31: =IF('1. General Information'!$G$4="","",'1. General Information'!$G$4) | B31: =IF('1. General Information'!$G$14="","",'1. General Information'!$G$14) | C31: =IF('1. General Information'!C$44="","",'1. General Information'!C$44) | D31: =IF('1. General Information'!D$44="","",'1. General Information'!D$44) | E31: =IF('1. General Information'!E$44="","",'1. General Information'!E$44) | F31: =IF('1. General Information'!F$44="","",'1. General Information'!F$44) | G31: =IF('1. General Information'!G$44="","",'1. General Information'!G$44) | H31: =IF('1. General Information'!H$44="","",'1. General Information'!H$44) | I31: =IF('1. General Information'!I$44="","",'1. General Information'!I$44)
A33: 5.General Information of the Airport
A34: AirportCode | B34: Data Year | C34: HotSpots | D34: PublishedInAip | E34: RWYHotSposts | F34: TWYHotSpots | G34: TaxilaneHotspots | H34: ApronHotSpots | I34: OtherHotSpots | J34: RFFCategory | K34: RFFVehicle | L34: FirefightingFoam | M34: SAF | N34: SAFRatio | O34: SAFAmount | P34: NoiseAbatement | Q34: Curfew | R34: NationalStandard | S34: NationalStandardConsultation
A35: =IF('1. General Information'!$G$4="","",'1. General Information'!$G$4) | B35: =IF('1. General Information'!$G$14="","",'1. General Information'!$G$14) | C35: =IF('1. General Information'!C$49="","",'1. General Information'!C$49) | D35: =IF('1. General Information'!D$49="","",'1. General Information'!D$49) | E35: =IF('1. General Information'!F$49="","",'1. General Information'!F$49) | F35: =IF('1. General Information'!G$49="","",'1. General Information'!G$49) | G35: =IF('1. General Information'!H$49="","",'1. General Information'!H$49) | H35: =IF('1. General Information'!I$49="","",'1. General Information'!I$49) | I35: =IF('1. General Information'!J$49="","",'1. General Information'!J$49) | J35: =IF('1. General Information'!C$52="","",'1. General Information'!C$52) | K35: =IF('1. General Information'!D$52="","",'1. General Information'!D$52) | L35: =IF('1. General Information'!E$52="","",'1. General Information'!E$52) | M35: =IF('1. General Information'!F$52="","",'1. General Information'!F$52) | N35: =IF('1. General Information'!G$52="","",'1. General Information'!G$52) | O35: =IF('1. General Information'!H$52="","",'1. General Information'!H$52) | P35: =IF('1. General Information'!I$52="","",'1. General Information'!I$52) | Q35: =IF('1. General Information'!J$52="","",'1. General Information'!J$52) | R35: =IF('1. General Information'!$C$58="","",'1. General Information'!$C$58) | S35: =IF('1. General Information'!$D$58="","",'1. General Information'!$D$58)
A38: Tab 2.PavementMaintenance
A39: 7. PAVEMENT MAINTENANCE INFORMATION
A40: AirportCode | B40: Data Year | C40: LastReconstruction_1 | D40: LastReconstructionType_1 | E40: EarlyReconstruction_1 | F40: ReasonOfEarlyReconstruction_1 | G40: SignOfPavementDistress_1 | H40: DescriptionOfPavementDistress_1 | I40: PCI_1 | J40: PCIFrequency_1 | K40: NDT_1 | L40: PMS_1 | M40: PMSHistory_1 | N40: DesignLife_1 | O40: LastReconstruction_2 | P40: LastReconstructionType_2 | Q40: EarlyReconstruction_2 | R40: ReasonOfEarlyReconstruction_2 | S40: SignOfPavementDistress_2 | T40: DescriptionOfPavementDistress_2 | U40: PCI_2 | V40: PCIFrequency_2 | W40: NDT_2 | X40: PMS_2 | Y40: PMSHistory_2 | Z40: DesignLife_2 | AA40: LastReconstruction_3 | AB40: LastReconstructionType_3 | AC40: EarlyReconstruction_3 | AD40: ReasonOfEarlyReconstruction_3 | AE40: SignOfPavementDistress_3 | AF40: DescriptionOfPavementDistress_3 | AG40: PCI_3 | AH40: PCIFrequency_3 | AI40: NDT_3 | AJ40: PMS_3 | AK40: PMSHistory_3 | AL40: DesignLife_3 | AM40: LastReconstruction_4 | AN40: LastReconstructionType_4 | AO40: EarlyReconstruction_4 | AP40: ReasonOfEarlyReconstruction_4 | AQ40: SignOfPavementDistress_4 | AR40: DescriptionOfPavementDistress_4 | AS40: PCI_4 | AT40: PCIFrequency_4 | AU40: NDT_4 | AV40: PMS_4 | AW40: PMSHistory_4 | AX40: DesignLife_4 | AY40: LastReconstruction_5 | AZ40: LastReconstructionType_5 | BA40: EarlyReconstruction_5 | BB40: ReasonOfEarlyReconstruction_5 | BC40: SignOfPavementDistress_5 | BD40: DescriptionOfPavementDistress_5 | BE40: PCI_5 | BF40: PCIFrequency_5 | BG40: NDT_5 | BH40: PMS_5 | BI40: PMSHistory_5 | BJ40: DesignLife_5 | BK40: LastReconstruction_6 | BL40: LastReconstructionType_6 | BM40: EarlyReconstruction_6 | BN40: ReasonOfEarlyReconstruction_6 | BO40: SignOfPavementDistress_6 | BP40: DescriptionOfPavementDistress_6 | BQ40: PCI_6 | BR40: PCIFrequency_6 | BS40: NDT_6 | BT40: PMS_6 | BU40: PMSHistory_6 | BV40: DesignLife_6 | BW40: LastReconstruction_7 | BX40: LastReconstructionType_7 | BY40: EarlyReconstruction_7 | BZ40: ReasonOfEarlyReconstruction_7 | CA40: SignOfPavementDistress_7 | CB40: DescriptionOfPavementDistress_7 | CC40: PCI_7 | CD40: PCIFrequency_7 | CE40: NDT_7 | CF40: PMS_7 | CG40: PMSHistory_7 | CH40: DesignLife_7 | CI40: LastReconstruction_8 | CJ40: LastReconstructionType_8 | CK40: EarlyReconstruction_8 | CL40: ReasonOfEarlyReconstruction_8 | CM40: SignOfPavementDistress_8 | CN40: DescriptionOfPavementDistress_8 | CO40: PCI_8 | CP40: PCIFrequency_8 | CQ40: NDT_8 | CR40: PMS_8 | CS40: PMSHistory_8 | CT40: DesignLife_8
A41: =IF('1. General Information'!$G$4="","",'1. General Information'!$G$4) | B41: =IF('1. General Information'!$G$14="","",'1. General Information'!$G$14) | C41: =IF('2. Pavement Maintenance'!$D$4="","",'2. Pavement Maintenance'!$D$4) | D41: =IF('2. Pavement Maintenance'!$D$5="","",'2. Pavement Maintenance'!$D$5) | E41: =IF('2. Pavement Maintenance'!$D$6="","",'2. Pavement Maintenance'!$D$6) | F41: =IF('2. Pavement Maintenance'!$D$7="","",'2. Pavement Maintenance'!$D$7) | G41: =IF('2. Pavement Maintenance'!$D$8="","",'2. Pavement Maintenance'!$D$8) | H41: =IF('2. Pavement Maintenance'!$D$9="","",'2. Pavement Maintenance'!$D$9) | I41: =IF('2. Pavement Maintenance'!$D$11="","",'2. Pavement Maintenance'!$D$11) | J41: =IF('2. Pavement Maintenance'!$D$12="","",'2. Pavement Maintenance'!$D$12) | K41: =IF('2. Pavement Maintenance'!$D$13="","",'2. Pavement Maintenance'!$D$13) | L41: =IF('2. Pavement Maintenance'!$D$14="","",'2. Pavement Maintenance'!$D$14) | M41: =IF('2. Pavement Maintenance'!$D$15="","",'2. Pavement Maintenance'!$D$15) | N41: =IF('2. Pavement Maintenance'!$D$16="","",'2. Pavement Maintenance'!$D$16) | O41: =IF('2. Pavement Maintenance'!$E$4="","",'2. Pavement Maintenance'!$E$4) | P41: =IF('2. Pavement Maintenance'!$E$5="","",'2. Pavement Maintenance'!$E$5) | Q41: =IF('2. Pavement Maintenance'!$E$6="","",'2. Pavement Maintenance'!$E$6) | R41: =IF('2. Pavement Maintenance'!$E$7="","",'2. Pavement Maintenance'!$E$7) | S41: =IF('2. Pavement Maintenance'!$E$8="","",'2. Pavement Maintenance'!$E$8) | T41: =IF('2. Pavement Maintenance'!$E$9="","",'2. Pavement Maintenance'!$E$9) | U41: =IF('2. Pavement Maintenance'!$E$11="","",'2. Pavement Maintenance'!$E$11) | V41: =IF('2. Pavement Maintenance'!$E$12="","",'2. Pavement Maintenance'!$E$12) | W41: =IF('2. Pavement Maintenance'!$E$13="","",'2. Pavement Maintenance'!$E$13) | X41: =IF('2. Pavement Maintenance'!$E$14="","",'2. Pavement Maintenance'!$E$14) | Y41: =IF('2. Pavement Maintenance'!$E$15="","",'2. Pavement Maintenance'!$E$15) | Z41: =IF('2. Pavement Maintenance'!$E$16="","",'2. Pavement Maintenance'!$E$16) | AA41: =IF('2. Pavement Maintenance'!$F$4="","",'2. Pavement Maintenance'!$F$4) | AB41: =IF('2. Pavement Maintenance'!$F$5="","",'2. Pavement Maintenance'!$F$5) | AC41: =IF('2. Pavement Maintenance'!$F$6="","",'2. Pavement Maintenance'!$F$6) | AD41: =IF('2. Pavement Maintenance'!$F$7="","",'2. Pavement Maintenance'!$F$7) | AE41: =IF('2. Pavement Maintenance'!$F$8="","",'2. Pavement Maintenance'!$F$8) | AF41: =IF('2. Pavement Maintenance'!$F$9="","",'2. Pavement Maintenance'!$F$9) | AG41: =IF('2. Pavement Maintenance'!$F$11="","",'2. Pavement Maintenance'!$F$11) | AH41: =IF('2. Pavement Maintenance'!$F$12="","",'2. Pavement Maintenance'!$F$12) | AI41: =IF('2. Pavement Maintenance'!$F$13="","",'2. Pavement Maintenance'!$F$13) | AJ41: =IF('2. Pavement Maintenance'!$F$14="","",'2. Pavement Maintenance'!$F$14) | AK41: =IF('2. Pavement Maintenance'!$F$15="","",'2. Pavement Maintenance'!$F$15) | AL41: =IF('2. Pavement Maintenance'!$F$16="","",'2. Pavement Maintenance'!$F$16) | AM41: =IF('2. Pavement Maintenance'!$G$4="","",'2. Pavement Maintenance'!$G$4) | AN41: =IF('2. Pavement Maintenance'!$G$5="","",'2. Pavement Maintenance'!$G$5) | AO41: =IF('2. Pavement Maintenance'!$G$6="","",'2. Pavement Maintenance'!$G$6) | AP41: =IF('2. Pavement Maintenance'!$G$7="","",'2. Pavement Maintenance'!$G$7) | AQ41: =IF('2. Pavement Maintenance'!$G$8="","",'2. Pavement Maintenance'!$G$8) | AR41: =IF('2. Pavement Maintenance'!$G$9="","",'2. Pavement Maintenance'!$G$9) | AS41: =IF('2. Pavement Maintenance'!$G$11="","",'2. Pavement Maintenance'!$G$11) | AT41: =IF('2. Pavement Maintenance'!$G$12="","",'2. Pavement Maintenance'!$G$12) | AU41: =IF('2. Pavement Maintenance'!$G$13="","",'2. Pavement Maintenance'!$G$13) | AV41: =IF('2. Pavement Maintenance'!$G$14="","",'2. Pavement Maintenance'!$G$14) | AW41: =IF('2. Pavement Maintenance'!$G$15="","",'2. Pavement Maintenance'!$G$15) | AX41: =IF('2. Pavement Maintenance'!$G$16="","",'2. Pavement Maintenance'!$G$16) | AY41: =IF('2. Pavement Maintenance'!$H$4="","",'2. Pavement Maintenance'!$H$4) | AZ41: =IF('2. Pavement Maintenance'!$H$5="","",'2. Pavement Maintenance'!$H$5) | BA41: =IF('2. Pavement Maintenance'!$H$6="","",'2. Pavement Maintenance'!$H$6) | BB41: =IF('2. Pavement Maintenance'!$H$7="","",'2. Pavement Maintenance'!$H$7) | BC41: =IF('2. Pavement Maintenance'!$H$8="","",'2. Pavement Maintenance'!$H$8) | BD41: =IF('2. Pavement Maintenance'!$H$9="","",'2. Pavement Maintenance'!$H$9) | BE41: =IF('2. Pavement Maintenance'!$H$11="","",'2. Pavement Maintenance'!$H$11) | BF41: =IF('2. Pavement Maintenance'!$H$12="","",'2. Pavement Maintenance'!$H$12) | BG41: =IF('2. Pavement Maintenance'!$H$13="","",'2. Pavement Maintenance'!$H$13) | BH41: =IF('2. Pavement Maintenance'!$H$14="","",'2. Pavement Maintenance'!$H$14) | BI41: =IF('2. Pavement Maintenance'!$H$15="","",'2. Pavement Maintenance'!$H$15) | BJ41: =IF('2. Pavement Maintenance'!$H$16="","",'2. Pavement Maintenance'!$H$16) | BK41: =IF('2. Pavement Maintenance'!$I$4="","",'2. Pavement Maintenance'!$I$4) | BL41: =IF('2. Pavement Maintenance'!$I$5="","",'2. Pavement Maintenance'!$I$5) | BM41: =IF('2. Pavement Maintenance'!$I$6="","",'2. Pavement Maintenance'!$I$6) | BN41: =IF('2. Pavement Maintenance'!$I$7="","",'2. Pavement Maintenance'!$I$7) | BO41: =IF('2. Pavement Maintenance'!$I$8="","",'2. Pavement Maintenance'!$I$8) | BP41: =IF('2. Pavement Maintenance'!$I$9="","",'2. Pavement Maintenance'!$I$9) | BQ41: =IF('2. Pavement Maintenance'!$I$11="","",'2. Pavement Maintenance'!$I$11) | BR41: =IF('2. Pavement Maintenance'!$I$12="","",'2. Pavement Maintenance'!$I$12) | BS41: =IF('2. Pavement Maintenance'!$I$13="","",'2. Pavement Maintenance'!$I$13) | BT41: =IF('2. Pavement Maintenance'!$I$14="","",'2. Pavement Maintenance'!$I$14) | BU41: =IF('2. Pavement Maintenance'!$I$15="","",'2. Pavement Maintenance'!$I$15) | BV41: =IF('2. Pavement Maintenance'!$I$16="","",'2. Pavement Maintenance'!$I$16) | BW41: =IF('2. Pavement Maintenance'!$J$4="","",'2. Pavement Maintenance'!$J$4) | BX41: =IF('2. Pavement Maintenance'!$J$5="","",'2. Pavement Maintenance'!$J$5) | BY41: =IF('2. Pavement Maintenance'!$J$6="","",'2. Pavement Maintenance'!$J$6) | BZ41: =IF('2. Pavement Maintenance'!$J$7="","",'2. Pavement Maintenance'!$J$7) | CA41: =IF('2. Pavement Maintenance'!$J$8="","",'2. Pavement Maintenance'!$J$8) | CB41: =IF('2. Pavement Maintenance'!$J$9="","",'2. Pavement Maintenance'!$J$9) | CC41: =IF('2. Pavement Maintenance'!$J$11="","",'2. Pavement Maintenance'!$J$11) | CD41: =IF('2. Pavement Maintenance'!$J$12="","",'2. Pavement Maintenance'!$J$12) | CE41: =IF('2. Pavement Maintenance'!$J$13="","",'2. Pavement Maintenance'!$J$13) | CF41: =IF('2. Pavement Maintenance'!$J$14="","",'2. Pavement Maintenance'!$J$14) | CG41: =IF('2. Pavement Maintenance'!$J$15="","",'2. Pavement Maintenance'!$J$15) | CH41: =IF('2. Pavement Maintenance'!$J$16="","",'2. Pavement Maintenance'!$J$16) | CI41: =IF('2. Pavement Maintenance'!$K$4="","",'2. Pavement Maintenance'!$K$4) | CJ41: =IF('2. Pavement Maintenance'!$K$5="","",'2. Pavement Maintenance'!$K$5) | CK41: =IF('2. Pavement Maintenance'!$K$6="","",'2. Pavement Maintenance'!$K$6) | CL41: =IF('2. Pavement Maintenance'!$K$7="","",'2. Pavement Maintenance'!$K$7) | CM41: =IF('2. Pavement Maintenance'!$K$8="","",'2. Pavement Maintenance'!$K$8) | CN41: =IF('2. Pavement Maintenance'!$K$9="","",'2. Pavement Maintenance'!$K$9) | CO41: =IF('2. Pavement Maintenance'!$K$11="","",'2. Pavement Maintenance'!$K$11) | CP41: =IF('2. Pavement Maintenance'!$K$12="","",'2. Pavement Maintenance'!$K$12) | CQ41: =IF('2. Pavement Maintenance'!$K$13="","",'2. Pavement Maintenance'!$K$13) | CR41: =IF('2. Pavement Maintenance'!$K$14="","",'2. Pavement Maintenance'!$K$14) | CS41: =IF('2. Pavement Maintenance'!$K$15="","",'2. Pavement Maintenance'!$K$15) | CT41: =IF('2. Pavement Maintenance'!$K$16="","",'2. Pavement Maintenance'!$K$16)
A43: Tab 3.Lagging Indicators
A44: SPA-1 Runway Safety | G44: SPA 2- FOD | M44: SPA-3 Disabled Aircraft | AM44: SPA-4 Taxiway Safety | AU44: SPA-5 Apron Safety | BE44: SPA-6 Wildlife Management | BJ44: SPA-7 Other Occurrences
A45: AirportCode | B45: Data Year | C45: SPI-01-A | D45: SPI-01-B | E45: SPI-01-C | F45: SPI-02-A | G45: SPI-02-B | H45: SPI-02-C | I45: SPI-03-A | J45: SPI-03-B | K45: SPI-03-C | L45: SPI-03-D | M45: SPI-03-E | N45: SPI-03-F | O45: SPI-04-A | P45: SPI-04-B | Q45: SPI-04-C | R45: SPI-04-D | S45: SPI-04-E | T45: SPI-04-F | U45: SPI-04-D-1 | V45: SPI-04-D-2 | W45: SPI-04-D-3 | X45: SPI-04-D-4 | Y45: SPI-04-D-5 | Z45: SPI-04-E-1 | AA45: SPI-04-E-2 | AB45: SPI-04-E-3 | AC45: SPI-04-E-4 | AD45: SPI-04-E-5 | AE45: SPI-04-F-1 | AF45: SPI-04-F-2 | AG45: SPI-04-F-3 | AH45: SPI-04-F-4 | AI45: SPI-04-F-5 | AJ45: SPI-04-G-1 | AK45: SPI-04-G-2 | AL45: SPI-04-G-3 | AM45: SPI-04-G-4 | AN45: SPI-04-G-5 | AO45: SPI-05-A | AP45: SPI-05-B | AQ45: SPI-05-C | AR45: SPI-06 | AS45: SPI-07-A | AT45: SPI-07-B | AU45: SPI-07-C | AV45: SPI-07-D | AW45: SPI-08-A | AX45: SPI-08-B | AY45: SPI-08-C | AZ45: SPI-08-D | BA45: SPI-08-E | BB45: SPI-08-F | BC45: SPI-08-G | BD45: SPI-09 | BE45: SPI-10-A | BF45: SPI-10-B | BG45: SPI-11-A | BH45: SPI-11-B | BI45: SPI-11-C | BJ45: SPI-11-D | BK45: SPI-12 | BL45: SPI-13 | BM45: SPI-14-A | BN45: SPI-14-B | BO45: SPI-15-A | BP45: SPI-15-B | BQ45: SPI-16
A46: =IF('1. General Information'!$G$4="","",'1. General Information'!$G$4) | B46: =IF('1. General Information'!$G$14="","",'1. General Information'!$G$14) | I46: =IF('3. Lagging Indicators'!$D15="","",'3. Lagging Indicators'!$D15) | J46: =IF('3. Lagging Indicators'!$D16="","",'3. Lagging Indicators'!$D16) | K46: =IF('3. Lagging Indicators'!$D17="","",'3. Lagging Indicators'!$D17) | L46: =IF('3. Lagging Indicators'!$D18="","",'3. Lagging Indicators'!$D18) | M46: =IF('3. Lagging Indicators'!$D19="","",'3. Lagging Indicators'!$D19) | N46: =IF('3. Lagging Indicators'!$D20="","",'3. Lagging Indicators'!$D20) | O46: =IF('3. Lagging Indicators'!$D24="","",'3. Lagging Indicators'!$D24) | P46: =IF('3. Lagging Indicators'!$D25="","",'3. Lagging Indicators'!$D25) | Q46: =IF('3. Lagging Indicators'!$D26="","",'3. Lagging Indicators'!$D26) | R46: =IF('3. Lagging Indicators'!$D27="","",'3. Lagging Indicators'!$D27) | S46: =IF('3. Lagging Indicators'!$D28="","",'3. Lagging Indicators'!$D28) | T46: =IF('3. Lagging Indicators'!$D29="","",'3. Lagging Indicators'!$D29) | U46: =IF('3. Lagging Indicators'!$E$27="","",'3. Lagging Indicators'!$E$27) | V46: =IF('3. Lagging Indicators'!$F$27="","",'3. Lagging Indicators'!$F$27) | W46: =IF('3. Lagging Indicators'!$G$27="","",'3. Lagging Indicators'!$G$27) | X46: =IF('3. Lagging Indicators'!$H$27="","",'3. Lagging Indicators'!$H$27) | Y46: =IF('3. Lagging Indicators'!$I$27="","",'3. Lagging Indicators'!$I$27) | Z46: =IF('3. Lagging Indicators'!$E$28="","",'3. Lagging Indicators'!$E$28) | AA46: =IF('3. Lagging Indicators'!$F$28="","",'3. Lagging Indicators'!$F$28) | AB46: =IF('3. Lagging Indicators'!$G$28="","",'3. Lagging Indicators'!$G$28) | AC46: =IF('3. Lagging Indicators'!$H$28="","",'3. Lagging Indicators'!$H$28) | AD46: =IF('3. Lagging Indicators'!$I$28="","",'3. Lagging Indicators'!$I$28) | AE46: =IF('3. Lagging Indicators'!$E$29="","",'3. Lagging Indicators'!$E$29) | AF46: =IF('3. Lagging Indicators'!$F$29="","",'3. Lagging Indicators'!$F$29) | AG46: =IF('3. Lagging Indicators'!$G$29="","",'3. Lagging Indicators'!$G$29) | AH46: =IF('3. Lagging Indicators'!$H$29="","",'3. Lagging Indicators'!$H$29) | AI46: =IF('3. Lagging Indicators'!$I$29="","",'3. Lagging Indicators'!$I$29) | AJ46: =IF('3. Lagging Indicators'!$E$30="","",'3. Lagging Indicators'!$E$30) | AK46: =IF('3. Lagging Indicators'!$F$30="","",'3. Lagging Indicators'!$F$30) | AL46: =IF('3. Lagging Indicators'!$G$30="","",'3. Lagging Indicators'!$G$30) | AM46: =IF('3. Lagging Indicators'!$H$30="","",'3. Lagging Indicators'!$H$30) | AN46: =IF('3. Lagging Indicators'!$I$30="","",'3. Lagging Indicators'!$I$30) | AO46: =IF('3. Lagging Indicators'!$D$34="","",'3. Lagging Indicators'!$D$34) | AP46: =IF('3. Lagging Indicators'!$D$35="","",'3. Lagging Indicators'!$D$35) | AQ46: =IF('3. Lagging Indicators'!$D$36="","",'3. Lagging Indicators'!$D$36) | AR46: =IF('3. Lagging Indicators'!$D$39="","",'3. Lagging Indicators'!$D$39) | AS46: =IF('3. Lagging Indicators'!$D$42="","",'3. Lagging Indicators'!$D$42) | AT46: =IF('3. Lagging Indicators'!$D$43="","",'3. Lagging Indicators'!$D$43) | AU46: =IF('3. Lagging Indicators'!$D$44="","",'3. Lagging Indicators'!$D$44) | AV46: =IF('3. Lagging Indicators'!$D$45="","",'3. Lagging Indicators'!$D$45) | AW46: =IF('3. Lagging Indicators'!$D$49="","",'3. Lagging Indicators'!$D$49) | AX46: =IF('3. Lagging Indicators'!$D$50="","",'3. Lagging Indicators'!$D$50) | AY46: =IF('3. Lagging Indicators'!$D$51="","",'3. Lagging Indicators'!$D$51) | AZ46: =IF('3. Lagging Indicators'!$D$52="","",'3. Lagging Indicators'!$D$52) | BA46: =IF('3. Lagging Indicators'!$D$53="","",'3. Lagging Indicators'!$D$53) | BB46: =IF('3. Lagging Indicators'!$D$54="","",'3. Lagging Indicators'!$D$54) | BC46: =IF('3. Lagging Indicators'!$D$55="","",'3. Lagging Indicators'!$D$55) | BD46: =IF('3. Lagging Indicators'!$D$58="","",'3. Lagging Indicators'!$D$58) | BE46: =IF('3. Lagging Indicators'!$D$61="","",'3. Lagging Indicators'!$D$61) | BF46: =IF('3. Lagging Indicators'!$D$62="","",'3. Lagging Indicators'!$D$62) | BG46: =IF('3. Lagging Indicators'!$D$66="","",'3. Lagging Indicators'!$D$66) | BH46: =IF('3. Lagging Indicators'!$D$67="","",'3. Lagging Indicators'!$D$67) | BI46: =IF('3. Lagging Indicators'!$D$68="","",'3. Lagging Indicators'!$D$68) | BJ46: =IF('3. Lagging Indicators'!$D$69="","",'3. Lagging Indicators'!$D$69) | BK46: =IF('3. Lagging Indicators'!$D$70="","",'3. Lagging Indicators'!$D$70) | BL46: =IF('3. Lagging Indicators'!$D$74="","",'3. Lagging Indicators'!$D$74) | BM46: =IF('3. Lagging Indicators'!$D$75="","",'3. Lagging Indicators'!$D$75) | BN46: =IF('3. Lagging Indicators'!$D$76="","",'3. Lagging Indicators'!$D$76) | BO46: =IF('3. Lagging Indicators'!$D$77="","",'3. Lagging Indicators'!$D$77) | BP46: =IF('3. Lagging Indicators'!$D$78="","",'3. Lagging Indicators'!$D$78) | BQ46: =IF('3. Lagging Indicators'!$D$79="","",'3. Lagging Indicators'!$D$79)
A49: Tab 4.Leading Indicators
A50: SPA-9 Emergency Response Planning | D50: SPA-10 Safety Culture and Training
A51: AirportCode | B51: Data Year | C51: SPI-18-A | D51: SPI-18-B | E51: SPI-18-C | F51: SPI-19-A | G51: SPI-19-B | H51: SPI-19-C | I51: SPI-19-D | J51: SPI-20-A | K51: SPI-20-A1 | L51: SPI-20-B | M51: SPI-20-B1 | N51: SPI-20-C | O51: SPI-20-C1 | P51: SPI-20-D | Q51: SPI-20-D1 | R51: SPI-20-E | S51: SPI-20-F | T51: SPI-20-G | U51: SPI-21-A | V51: SPI-21-B | W51: SPI-21-C | X51: SPI-21-D | Y51: SPI-21-E | Z51: SPI-21-F | AA51: SPI-21-G | AB51: SPI-21-H | AC51: SPI-21-I | AD51: SPI-21-J | AE51: SPI-21-K | AF51: SPI-21-L
A52: =IF('1. General Information'!$G$4="","",'1. General Information'!$G$4) | B52: =IF('1. General Information'!$G$14="","",'1. General Information'!$G$14) | C52: =IF('4. Leading Indicators'!$G$4="","",'4. Leading Indicators'!$G$4) | D52: =IF('4. Leading Indicators'!$G$5="","",'4. Leading Indicators'!$G$5) | E52: =IF('4. Leading Indicators'!$G$6="","",'4. Leading Indicators'!$G$6) | F52: =IF('4. Leading Indicators'!$G$10="","",'4. Leading Indicators'!$G$10) | G52: =IF('4. Leading Indicators'!$G$11="","",'4. Leading Indicators'!$G$11) | H52: =IF('4. Leading Indicators'!$G$12="","",'4. Leading Indicators'!$G$12) | I52: =IF('4. Leading Indicators'!$G$13="","",'4. Leading Indicators'!$G$13) | J52: =IF('4. Leading Indicators'!$D$16="","",'4. Leading Indicators'!$D$16) | K52: =IF('4. Leading Indicators'!$G$16="","",'4. Leading Indicators'!$G$16) | L52: =IF('4. Leading Indicators'!$D$17="","",'4. Leading Indicators'!$D$17) | M52: =IF('4. Leading Indicators'!$G$17="","",'4. Leading Indicators'!$G$17) | N52: =IF('4. Leading Indicators'!$D$19="","",'4. Leading Indicators'!$D$19) | O52: =IF('4. Leading Indicators'!$G$19="","",'4. Leading Indicators'!$G$19) | P52: =IF('4. Leading Indicators'!$D$20="","",'4. Leading Indicators'!$D$20) | Q52: =IF('4. Leading Indicators'!$G$20="","",'4. Leading Indicators'!$G$20) | R52: =IF('4. Leading Indicators'!$G$21="","",'4. Leading Indicators'!$G$21) | S52: =IF('4. Leading Indicators'!$G$22="","",'4. Leading Indicators'!$G$22) | T52: =IF('4. Leading Indicators'!$G$23="","",'4. Leading Indicators'!$G$23) | U52: =IF('4. Leading Indicators'!$G$26="","",'4. Leading Indicators'!$G$26) | V52: =IF('4. Leading Indicators'!$G$27="","",'4. Leading Indicators'!$G$27) | W52: =IF('4. Leading Indicators'!$G$28="","",'4. Leading Indicators'!$G$28) | X52: =IF('4. Leading Indicators'!$G$29="","",'4. Leading Indicators'!$G$29) | Z52: =IF('4. Leading Indicators'!$G$30="","",'4. Leading Indicators'!$G$30) | AA52: =IF('4. Leading Indicators'!$G$31="","",'4. Leading Indicators'!$G$31) | AB52: =IF('4. Leading Indicators'!$G$32="","",'4. Leading Indicators'!$G$32) | AC52: =IF('4. Leading Indicators'!$G$33="","",'4. Leading Indicators'!$G$33) | AD52: =IF('4. Leading Indicators'!$G$34="","",'4. Leading Indicators'!$G$34) | AE52: =IF('4. Leading Indicators'!$G$35="","",'4. Leading Indicators'!$G$35) | AF52: =IF('4. Leading Indicators'!$G$36="","",'4. Leading Indicators'!$G$36)
A56: Free Text
A57: AirportCode | B57: =IF('1. General Information'!$G$4="","",'1. General Information'!$G$4)
A58: Data Year | B58: =IF('1. General Information'!$G$14="","",'1. General Information'!$G$14)
A59: 5.14.1 | B59: =IF('1. General Information'!G54="","",'1. General Information'!G54)
A60: 5.14.2 | B60: =IF('1. General Information'!G55="","",'1. General Information'!G55)
A61: 5.14.3 | B61: =IF('1. General Information'!G56="","",'1. General Information'!G56)
A62: 5.14.4 | B62: =IF('1. General Information'!G57="","",'1. General Information'!G57)
A63: 5.14.5 | B63: =IF('1. General Information'!G58="","",'1. General Information'!G58)
A64: 6.1 | B64: =IF('1. General Information'!C61="","",'1. General Information'!C61)
A65: 6.2 | B65: =IF('1. General Information'!C62="","",'1. General Information'!C62)
A66: 6.3 | B66: =IF('1. General Information'!C63="","",'1. General Information'!C63)
A67: 6.4 | B67: =IF('1. General Information'!C64="","",'1. General Information'!C64)
A68: 6.5 | B68: =IF('1. General Information'!C65="","",'1. General Information'!C65)
A69: 8.1 | B69: =IF('2. Pavement Maintenance'!C19="","",'2. Pavement Maintenance'!C19)
A70: 8.2 | B70: =IF('2. Pavement Maintenance'!C20="","",'2. Pavement Maintenance'!C20)
A71: 8.3 | B71: =IF('2. Pavement Maintenance'!C21="","",'2. Pavement Maintenance'!C21)
A72: 8.4 | B72: =IF('2. Pavement Maintenance'!C22="","",'2. Pavement Maintenance'!C22)
A73: 8.5 | B73: =IF('2. Pavement Maintenance'!C23="","",'2. Pavement Maintenance'!C23)
A74: SPI-17-A | B74: =IF('3. Lagging Indicators'!C82="","",'3. Lagging Indicators'!C82)
A75: SPI-17-B | B75: =IF('3. Lagging Indicators'!C83="","",'3. Lagging Indicators'!C83)
A76: SPI-17-C | B76: =IF('3. Lagging Indicators'!C84="","",'3. Lagging Indicators'!C84)
A77: SPI-17-D | B77: =IF('3. Lagging Indicators'!C85="","",'3. Lagging Indicators'!C85)
A78: SPI-17-E | B78: =IF('3. Lagging Indicators'!C86="","",'3. Lagging Indicators'!C86)
A79: SPI-22-A | B79: =IF('4. Leading Indicators'!C40="","",'4. Leading Indicators'!C40)
A80: SPI-22-B | B80: =IF('4. Leading Indicators'!C41="","",'4. Leading Indicators'!C41)
A81: SPI-22-C | B81: =IF('4. Leading Indicators'!C42="","",'4. Leading Indicators'!C42)
A82: SPI-22-D | B82: =IF('4. Leading Indicators'!C43="","",'4. Leading Indicators'!C43)
A83: SPI-22-E | B83: =IF('4. Leading Indicators'!C44="","",'4. Leading Indicators'!C44)
