Workbook
Name _3.1: Definitions!$A$30
Name ACI_Regions: Data_Validation!$B$4:$B$8
Name ADP: Data_Validation!$D$76:$D$79
Name Aircraft_Type: Data_Validation!$H$4:$H$53
Name Aircraft_Types: Data_Validation!$H$4:$H$53
Name Airlines_Disabled: Data_Validation!$D$66:$D$70
Name Airside_training: Data_Validation!$B$76:$B$81
Name ARFF_Category_or_Index: Data_Validation!$D$33:$D$47
Name Curfew: Data_Validation!$B$33:$B$37
Name Disabled_Aircraft: Data_Validation!$B$66:$B$69
Name Foam_Type: Data_Validation!$F$25:$F$30
Name Intersection_take_off: Data_Validation!$B$18:$B$21
Name Legislative_Bodies: Data_Validation!$D$4:$D$6
Name Measurement_System: Data_Validation!$D$12:$D$13
Name Pavement_Inspection_Frequency: Data_Validation!$D$58:$D$61
Name Pavement_management_system: Data_Validation!$F$58:$F$61
Name Reconstruction: Data_Validation!$B$58:$B$59
Name RESA: Data_Validation!$F$12:$F$20
Name Runway_Category: Data_Validation!$F$33:$F$39
Name SAF: Data_Validation!$B$41:$B$45
Name Service_Roads: Data_Validation!$D$25:$D$28
Name SMCGS: Data_Validation!$B$25:$B$29
Name Stopbars_Availability: Data_Validation!$D$18:$D$21
Name Stopbars_Operability: Data_Validation!$F$43:$F$46
Name Surface_Type: Data_Validation!$F$4:$F$7
Name Yes_and_No: Data_Validation!$B$12:$B$14

Sheet Introduction & User Guide

Sheet 1. General Information
B2: 1.Identification of the Airport
B3: 1.1 | C3: Airport name (please enter the official name of your airport. e.g. Hartsfield–Jackson Atlanta International Airport)
B4: 1.2 | C4: Airport code (IATA 3-letter code)
B5: 1.3 | C5: ACI region
B6: 1.4 | C6: Annual Aircraft Movements (ATM)
B7: 1.5 | C7: Is your aerodrome certified by the National Civil Aviation Authority (CAA)?
B8: 1.6 | C8: If yes, when?
B9: 1.7 | C9: Which measurement system do you use at your airport?
B10: 1.8 | C10: Which aviation regulatory framework does your airport follow?
B11: 1.9 | C11: Name of person submitting
B12: 1.10 | C12: Job title of the person submitting
B13: 1.11 | C13: E-mail address of the person submitting
B14: 1.12 | C14: Data Year (please select 2021, 2022, 2023, 2024, or 2025 from the dropdown that corresponds to the year of the data you are providing)
B15: This form must be submitted to safety@aci.aero
B16: 2.Runway (RWY) Information
D17: 2.1 | E17: 2.2 | F17: 2.3 | G17: 2.4 | H17: 2.5 | I17: 2.6 | J17: 2.7 | K17: 2.8 | L17: 2.9
C18: Runways | D18: Runway Designation | E18: Runway Surface | F18: =IF(G9="Meter", "Runway Length (Meter)", IF(G9="Feet", "Runway Length (Feet)", "Runway Length (select measurement unit in 1.7) ")) -> Runway Length (select measurement unit in 1.7) | G18: =IF(G9="Meter", "Runway Width (Meter)", IF(G9="Feet", "Runway Width (Feet)", "Runway Width (select measurement unit in 1.7)")) -> Runway Width (select measurement unit in 1.7) | H18: Is the RWY equipped with RESA (ICAO) or RSA (FAA)? | I18: Is the RWY surface grooved? | J18: RWY Approach category | K18: Is the runway equipped with a Runway Status Lights (RWSL) system that automatically illuminates red in-pavement lights to warn of potential conflicts, independent of ATC clearances? | L18: What is the critical aircraft (most demanding aircraft) of this runway?
C19: Runway 1
C21: Runway 2
C23: Runway 3
C25: Runway 4
C27: Runway 5
C29: Runway 6
C31: Runway 7
C33: Runway 8
B36: 3.Taxiway (TWY) Information
C37: 3.1 | D37: 3.2 | E37: 3.3 | F37: 3.4 | G37: 3.5 | H37: 3.6
C38: Number of Rapid Exit Taxiways (RETs) | D38: Number of End-Around Taxiways (EATs), specifically designed to allow aircraft to taxi around the runway end without crossing the active runway | E38: Does your airport have Stop bars at all TWY/RWY intersections, or only at RWY entry points? | F38: Are Stop bars operated at all times or only during Low Visibility Procedures(LVP)? | G38: Do you have Guard Lights (Wig Wags)? | H38: Does your airport allow intersection take-off? If yes, is there a TORA sign for the intersection take-off?
B41: 4.Apron Information
C42: 4.1 | D42: 4.2 | E42: 4.3 | F42: 4.4 | G42: 4.5 | H42: 4.6 | I42: 4.7
C43: Total number of Aircraft Stands | D43: Number of remote aircraft stands, defined in this form as stands that are not equipped with Passenger Boarding Bridges (PBBs) | E43: Is a surface movement guidance and control system (SMGCS) been provided at your airport? If so, which level? | F43: Number of A-VDGS | G43: Are the vehicles service roads located at the front or back side of aircraft stands? | H43: Does your airport have alternative taxilanes or taxiways where differentiated markings (e.g., color, line type, or pattern) are used based on aircraft wingspan to improve traffic flow? | I43: What type of pavement is used for the aircraft parking stands?
B46: 5.General Information of the Airport
C47: 5.1 | D47: 5.2 | E47: 5.3 | F47: 5.3.1 | G47: 5.3.2 | H47: 5.3.3 | I47: 5.3.4 | J47: 5.3.5
C48: Are there any identified Hot Spots? | D48: If yes, are they published in the AIP? | E48: Please specify how many Hot Spots you have in any of these areas. | F48: Runway | G48: Taxiway | H48: Taxilane | I48: Apron | J48: Other Areas
E49: →
C50: 5.4 | D50: 5.5 | E50: 5.6 | F50: 5.7 | G50: 5.8 | H50: 5.9 | I50: 5.10 | J50: 5.11
C51: What is your airport’s RFF category (ICAO) or index (FAA)? | D51: Number of major RFF vehicles capable of directly discharging foam | E51: Type of Firefighting Foam. | F51: Is Sustainable Aviation Fuel (SAF) available at your airport? | G51: If yes, what is the blending ratio? | H51: What is the average amount of SAF available at the airport (in tons)? | I51: Do you have noise abatement procedures at your airport? | J51: Do you have a curfew?
C53: 5.12 | D53: 5.13 | E53: 5.14
C54: Have your CAA transposed any ICAO's recommended practices into national standards? For example: Establishing RESA of 240 m as a National Standard, etc. | D54: If yes, did the CAA consulted with aerodrome operators prior making the recommended practice(s) as standards? | E54: Can you list some of them? → | F54: 5.14.1
F55: 5.14.2
...

Sheet 2. Pavement Maintenance
C2: 7. PAVEMENT MAINTENANCE INFORMATION
C3: Runway Specific Questions | D3: ="RWY-1 (" & IF(OR('1. General Information'!D19="", '1. General Information'!D20=""), "N/A", '1. General Information'!D19 & "/" & '1. General Information'!D20) & ")" -> RWY-1 (N/A) | E3: ="RWY-2 (" & IF(OR('1. General Information'!D21="", '1. General Information'!D22=""), "N/A", '1. General Information'!D21 & "/" & '1. General Information'!D22) & ")" -> RWY-2 (N/A) | F3: ="RWY-3 (" & IF(OR('1. General Information'!D23="", '1. General Information'!D24=""), "N/A", '1. General Information'!D23 & "/" & '1. General Information'!D24) & ")" -> RWY-3 (N/A) | G3: ="RWY-4 (" & IF(OR('1. General Information'!D25="", '1. General Information'!D26=""), "N/A", '1. General Information'!D25 & "/" & '1. General Information'!D26) & ")" -> RWY-4 (N/A) | H3: ="RWY-5 (" & IF(OR('1. General Information'!D27="", '1. General Information'!D28=""), "N/A", '1. General Information'!D27 & "/" & '1. General Information'!D28) & ")" -> RWY-5 (N/A) | I3: ="RWY-6 (" & IF(OR('1. General Information'!D29="", '1. General Information'!D30=""), "N/A", '1. General Information'!D29 & "/" & '1. General Information'!D30) & ")" -> RWY-6 (N/A) | J3: ="RWY-7 (" & IF(OR('1. General Information'!D31="", '1. General Information'!D32=""), "N/A", '1. General Information'!D31 & "/" & '1. General Information'!D32) & ")" -> RWY-7 (N/A) | K3: ="RWY-8 (" & IF(OR('1. General Information'!D33="", '1. General Information'!D34=""), "N/A", '1. General Information'!D33 & "/" & '1. General Information'!D34) & ")" -> RWY-8 (N/A)
B4: 7.1 | C4: If applicable, when did the runway undergo its last major reconstruction or rehabilitation works? (For example: full-depth replacement of the runway pavement over at least 50% of its length, runway overlay, etc.)
B5: 7.2 | C5: Was the reconstruction full length or partial length?
B6: 7.3 | C6: Was this reconstruction undertaken before the pavement reached its planned design life?
B7: 7.4 | C7: If yes, what was the reason for the early reconstruction?
B8: 7.5 | C8: Is the runway currently exhibiting any unexpected signs of pavement distress? (Examples include excessive cracking, spalling, scaling, rutting, shoving, blowups, or raveling.)
B9: 7.6 | C9: If so, please provide a brief description of the distress.
C10: General Pavement Management System Questions (runway independent)
B11: 7.7 | C11: Have you conducted a Pavement Condition Index (PCI) evaluation of the runway?
B12: 7.8 | C12: If so, how frequently do you conduct PCI evaluations?
B13: 7.9 | C13: When was the last time a non-destructive test (NDT) was conducted on the runway pavement?
B14: 7.10 | C14: Do you have a formal pavement management system in place at your airport?
B15: 7.11 | C15: If so, how long has this system been in place?
B16: 7.12 | C16: What design life do you use for your runway pavements (in years)? If it varies, please provide details explaining the reasons for the variation.
B18: 8. Supplementary Pavement Maintenance Details If you have additional data or information about your airside pavement maintenance that will help ACI better understand the context and provide you with better safety intelligence, please don't hesitate to share it with us in the following table.
B19: 8.1
B20: 8.2
B21: 8.3
B22: 8.4
B23: 8.5

Sheet 3. Lagging Indicators
C2: Please enter the number of runway incursions and excursions for each runway at your airport.
B3: Safety Performance Area (SPA)-1 Runway Safety | D3: Runway 1 | E3: Runway 2 | F3: Runway 3 | G3: Runway 4 | H3: Runway 5 | I3: Runway 6 | J3: Runway 7 | K3: Runway 8
B4: SPI-01 | C4: Runway Incursion - by type | D4: =IF(OR('1. General Information'!D19="", '1. General Information'!D20=""), "N/A", '1. General Information'!D19 & "-" & '1. General Information'!D20) -> N/A | E4: =IF(OR('1. General Information'!D21="", '1. General Information'!D22=""), "N/A", '1. General Information'!D21 & "-" & '1. General Information'!D22) -> N/A | F4: =IF(OR('1. General Information'!D23="", '1. General Information'!D24=""), "N/A", '1. General Information'!D23 & "-" & '1. General Information'!D24) -> N/A | G4: =IF(OR('1. General Information'!D25="", '1. General Information'!D26=""), "N/A", '1. General Information'!D25 & "-" & '1. General Information'!D26) -> N/A | H4: =IF(OR('1. General Information'!D27="", '1. General Information'!D28=""), "N/A", '1. General Information'!D27 & "-" & '1. General Information'!D28) -> N/A | I4: =IF(OR('1. General Information'!D29="", '1. General Information'!D30=""), "N/A", '1. General Information'!D29 & "-" & '1. General Information'!D30) -> N/A | J4: =IF(OR('1. General Information'!D31="", '1. General Information'!D32=""), "N/A", '1. General Information'!D31 & "-" & '1. General Information'!D32) -> N/A | K4: =IF(OR('1. General Information'!D33="", '1. General Information'!D34=""), "N/A", '1. General Information'!D33 & "-" & '1. General Information'!D34) -> N/A
B5: SPI-01-A | C5: Aircraft (choose the runway that best suit each case/scenario)
B6: SPI-01-B | C6: Vehicle (choose the runway that best suit each case/scenario)
B7: SPI-01-C | C7: Person (choose the runway that best suit each case/scenario)
B8: SPI-02 | C8: Runway Excursion- by type | D8: =IF(OR('1. General Information'!D19="", '1. General Information'!D20=""), "N/A", '1. General Information'!D19 & "-" & '1. General Information'!D20) -> N/A | E8: =IF(OR('1. General Information'!D21="", '1. General Information'!D22=""), "N/A", '1. General Information'!D21 & "-" & '1. General Information'!D22) -> N/A | F8: =IF(OR('1. General Information'!D23="", '1. General Information'!D24=""), "N/A", '1. General Information'!D23 & "-" & '1. General Information'!D24) -> N/A | G8: =IF(OR('1. General Information'!D25="", '1. General Information'!D26=""), "N/A", '1. General Information'!D25 & "-" & '1. General Information'!D26) -> N/A | H8: =IF(OR('1. General Information'!D27="", '1. General Information'!D28=""), "N/A", '1. General Information'!D27 & "-" & '1. General Information'!D28) -> N/A | I8: =IF(OR('1. General Information'!D29="", '1. General Information'!D30=""), "N/A", '1. General Information'!D29 & "-" & '1. General Information'!D30) -> N/A | J8: =IF(OR('1. General Information'!D31="", '1. General Information'!D32=""), "N/A", '1. General Information'!D31 & "-" & '1. General Information'!D32) -> N/A | K8: =IF(OR('1. General Information'!D33="", '1. General Information'!D34=""), "N/A", '1. General Information'!D33 & "-" & '1. General Information'!D34) -> N/A
B9: SPI-02-A | C9: Overrun (choose the runway that best suit each case/scenario)
B10: SPI-02-B | C10: Undershoot (choose the runway that best suit each case/scenario)
B11: SPI-02-C | C11: Veer-off (choose the runway that best suit each case/scenario)
C13: SPA 2- FOD
B14: SPI-03 | C14: Foreign Object Debris (FOD), other than wildlife remains. | D14: =IF('1. General Information'!$G$14="","Please select Data Year in 1.12",'1. General Information'!$G$14) -> Please select Data Year in 1.12
B15: SPI-03-A | C15: Damage to aircraft due to Foreign Object Debris (FOD) on runway
B16: SPI-03-B | C16: FOD found on the runway
B17: SPI-03-C | C17: Damage to aircraft due to FOD on taxiway
B18: SPI-03-D | C18: FOD found on the taxiway
B19: SPI-03-E | C19: Damage to aircraft due to FOD on apron
B20: SPI-03-F | C20: FOD found on the apron
B22: SPA-3 Disabled Aircraft
B23: SPI-04 | C23: Disabled Aircraft | D23: =IF('1. General Information'!$G$14="","Please select Data Year in 1.12",'1. General Information'!$G$14) -> Please select Data Year in 1.12 | G23: SPI-04-H
B24: SPI-04-A | C24: Does your airport have a disabled aircraft removal plan or access to equipment (from on-site or external sources)? | E24: What was the type of aircraft involved?(Up to 5 aircrafts)
B25: SPI-04-B | C25: Do the airlines or air operators currently operating at your airport have a disabled aircraft removal plan or arrangement with another company?
B26: SPI-04-C | C26: Do the airlines or air operators currently operating at your airport share their disabled aircraft removal plan with the airport operator? | E26: 1st | F26: 2nd | G26: 3rd | H26: 4th | I26: 5th
B27: SPI-04-D | C27: Number of disabled aircraft on runway
B28: SPI-04-E | C28: Number of disabled aircraft on taxiway
B29: SPI-04-F | C29: Number of disabled aircraft on apron
B30: SPI-04-G | C30: Runway closure time due to disabled aircraft. (Please round to the nearest hour) | D30: →
C32: SPA-4 Taxiway Safety
B33: SPI-05 | C33: Taxiway Incursion (TI) | D33: =IF('1. General Information'!$G$14="","Please select Data Year in 1.12",'1. General Information'!$G$14) -> Please select Data Year in 1.12
B34: SPI-05-A | C34: Aircraft
B35: SPI-05-B | C35: Vehicle
B36: SPI-05-C | C36: Person
C38: Taxiway Excursion (TE) | D38: =IF('1. General Information'!$G$14="","Please select Data Year in 1.12",'1. General Information'!$G$14) -> Please select Data Year in 1.12
B39: SPI-06 | C39: Taxiway Excursion (TE)
B41: SPI-07 | C41: Taxiway Collision | D41: =IF('1. General Information'!$G$14="","Please select Data Year in 1.12",'1. General Information'!$G$14) -> Please select Data Year in 1.12
B42: SPI-07-A | C42: Aircraft-Aircraft
B43: SPI-07-B | C43: Aircraft-Vehicle
B44: SPI-07-C | C44: Aircraft-Facility
B45: SPI-07-D | C45: Aircraft-Person
B47: SPA-5 Apron Safety
...

Sheet 4. Leading Indicators
B2: SPA-9 Emergency Response Planning
B3: SPI-18 | C3: Emergency Response Planning Exercises | G3: =IF('1. General Information'!$G$14="","Please select Data Year in 1.12",'1. General Information'!$G$14) -> Please select Data Year in 1.12
B4: SPI-18-A | C4: The number of tabletop exercises conducted in compliance with ICAO Annex 14 requirements
B5: SPI-18-B | C5: The number of partial exercises conducted in compliance with ICAO Annex 14 requirements
B6: SPI-18-C | C6: The number of full-scale exercises conducted in compliance with ICAO Annex 14 requirements
B8: SPA-10 Safety Culture and Training
B9: SPI-19 | C9: Safety Reporting | G9: =IF('1. General Information'!$G$14="","Please select Data Year in 1.12",'1. General Information'!$G$14) -> Please select Data Year in 1.12
B10: SPI-19-A | C10: The number of voluntary reports
B11: SPI-19-B | C11: The number of feedback responces to voluntary reports
B12: SPI-19-C | C12: The number of hazards identified during the reporting year
B13: SPI-19-D | C13: The number of measures taken
B15: SPI-20 | C15: Safety Meetings and Promotions | G15: =IF('1. General Information'!$G$14="","Please select Data Year in 1.12",'1. General Information'!$G$14) -> Please select Data Year in 1.12
B16: SPI-20-A | C16: Do you have a Safety Review Board (SRB) responsible for strategic safety oversight and high-level safety decisions? | E16: SPI-20-A1 | F16: How many meetings did you have during the reporting year?
B17: SPI-20-B | C17: Do you have a Safety Action Group (SAG) responsible for implementing and monitoring safety actions? | E17: SPI-20-B1 | F17: How many meetings did you have during the reporting year?
B18: SPI-20-C | C18: Do you have a Runway Safety Team (RST) dedicated to runway safety and prevention of runway incursions/excursions? | E18: SPI-20-C1 | F18: How many meetings did you have during the reporting year?
E19: SPI-20-C2 | F19: Which entity leads the Runway Safety Team (RST)?
B20: SPI-20-D | C20: Do you have an Apron Safety Team (AST), dedicatd to the safety of apron/ramp operations? | E20: SPI-20-D1 | F20: How many meetings did you have during the reporting year?
B21: SPI-20-E | C21: The number of safety bulletins or notices issued
B22: SPI-20-F | C22: The number of safety seminars or workshops held
B23: SPI-20-G | C23: The number of safety promotion campaigns held (e.g., FOD awareness walks, safety week, etc.)
B25: SPI-21 | C25: Safety Training | G25: =IF('1. General Information'!$G$14="","Please select Data Year in 1.12",'1. General Information'!$G$14) -> Please select Data Year in 1.12
B26: SPI-21-A | C26: Total number of personnel holding a valid movement area access authorization (including runways, taxiways, and aprons) at the end of the reporting year
B27: SPI-21-B | C27: Of those personnel, how many have completed airside safety training and remain valid at the end of the reporting year?
B28: SPI-21-C | C28: Is recurrent training provided?
B29: SPI-21-D | C29: If yes, at what interval is it refreshed?
B30: SPI-21-F | C30: Number of personnel who have completed training and hold a valid apron/ramp area driving permit as of the end of the reporting year
B31: SPI-21-G | C31: Number of personnel who have completed training and hold a valid maneuvering area (including Runways and Taxiways) driving permit as of the end of the reporting year
B32: SPI-21-H | C32: The validity period of apron area driving training (years)
B33: SPI-21-I | C33: The validity period of maneuvering area driving training (years)
B34: SPI-21-J | C34: Are all vehicles, aircraft, and personnel accessing the runway using the same radio frequency? (one runway/one frequency)
B35: SPI-21-K | C35: Do you have a driving permit zone classification for the airside of your airport?
B36: SPI-21-L | C36: If yes, please select the types of airside driving permits available at your airport.
B39: SPA-11. Extra Leading Indicators If you are collecting any other leading indicators that can help ACI better understand global aviation safety trends, and potentially be added as new indicators to ACI's safety data collection platform, please don't hesitate to share them with us in the following table. Your contributions will be recognized and valued in our efforts to enhance aviation safety.
B40: SPI-22-A
B41: SPI-22-B
B42: SPI-22-C
B43: SPI-22-D
B44: SPI-22-E

Sheet Definitions
A2: Term code | B2: Question/Term | C2: Definitions/Description | D2: References
C3: General Information Tab
A4: 1. | B4: IDENTIFICATION of the AIRPORT
A5: 1.1 | B5: Airport name | C5: The official name of the airport as designated by the relevant aviation authority. It identifies the specific location or facility where aircraft operations take place. | D5: ICAO Annex 14 - Aerodromes, Volume I - Aerodrome Design and Operations
A6: 1.2 | B6: Airport code (IATA 3-letter code) | C6: The three-letter code assigned by the International Air Transport Association (IATA) to uniquely identify airports worldwide. These codes are used in airline schedules, ticketing, baggage handling, and other airline-related activities. | D6: IATA Airport Coding Manual You can identify your airport code using the IATA search tool by clicking on this cell.
A7: 1.3 | B7: ACI region | C7: The region to which the airport belongs according to the Airports Council International (ACI) regional classification. ACI categorizes airports into regions for administrative and statistical purposes. | D7: ACI Regional Offices
A8: 1.4 | B8: Annual aircraft movements (atm) | C8: The total number of aircraft takeoffs or landings at an airport during reporting year. Aircraft movements are a key metric for assessing airport activity and workload. | D8: ICAO Annex 14 - Aerodromes, Volume I - Aerodrome Design and Operations
A9: 1.5 | B9: Is your aerodrome certified by the National Civil Aviation Authority (CAA)? | C9: Indicates whether the aerodrome (airport) holds certification from the National Civil Aviation Authority (CAA) in accordance with regulatory requirements. Aerodrome certification ensures compliance with safety, security, and operational standards. | D9: ICAO Annex 14 - Aerodromes, Volume I - Aerodrome Design and Operations
A10: 1.6 | B10: If yes, when? | C10: Enter the current aerodrome certificate issuance date. | D10: Aerodrome Certification
A11: 1.7 | B11: Which measurement system do you use at your airport? | C11: Choose the unit of measurement for length that you will use to complete the form. Typically, this is the unit used in your airport’s AIP and internal documentation: meters or feet. | D11: Internal documentation and procedures of the organization
A12: 1.8 | B12: Which aviation regulatory framework does your airport follow? | C12: Select the aviation regulatory framework your airport follow. This will help us better understand the definitions and characteristics of your entries when variations occur between different aviation regulatory frameworks. If you do not follow FAA or EASA, please choose ICAO. | D12: Internal documentation and procedures of the organization
A13: 1.9 | B13: Name of person submitting | C13: The full name of the individual responsible for submitting the safety data collection form. This person is typically an authorized representative of the airport or organization.
A14: 1.10 | B14: Job title of the person submitting | C14: The job title or position held by the individual submitting the safety data collection form. This information helps identify the role and responsibility of the person in the organization. | D14: Internal documentation and procedures of the organization
A15: 1.11 | B15: E-mail address of the person submitting | C15: The email address of the individual responsible for submitting the safety data collection form. This contact information facilitates communication and correspondence regarding the form and related matters. | D15: Internal documentation and procedures of the organization
A16: 1.12 | B16: Data Year | C16: The calendar year to which the submitted data applies. All data must reflect a complete January–December period and be consistent across the form.
A17: 2. | B17: GENERAL PHYSICAL CHARACTERISTICS of the RUNWAY | C17: This section pertains to various physical attributes and equipment associated with the runway, providing essential information for operational and safety considerations.
A18: 2.1 | B18: Runway Designation | C18: The alphanumeric designation assigned to the runway based on its magnetic orientation. This designation aids pilots in identifying and navigating to the correct runway. | D18: ICAO Annex 14 - Aerodromes, Volume I - Aerodrome Design and Operations Ch-5.2.2
A19: 2.2 | B19: Runway Surface | C19: The type of surface material or composition of the runway, such as asphalt, concrete, or grass. The runway surface affects aircraft performance during takeoff, landing, and taxiing. For surface types that are not asphalt, concrete, or a combination of the two—such as natural surfaces like grass, gravel, etc.—please select "Others". | D19: ICAO Annex 14 - Aerodromes, Volume I - Aerodrome Design and Operations
A20: 2.3 | B20: Runway Length | C20: The physical length of the runway as stated in the AIP. Please note that the measurement unit will automatically adjust based on your selection in question 1.7. | D20: ICAO Annex 14 - Aerodromes, Volume I - Aerodrome Design and Operations Table 4-2
A21: 2.4 | B21: Runway Width | C21: The physical width of the runway as stated in the AIP. Please note that the measurement unit will automatically adjust based on your selection in question 1.7. | D21: ICAO Annex 14 - Aerodromes, Volume I - Aerodrome Design and Operations Table 4-2
A22: 2.5 | B22: Is the RWY equipped with RESA (ICAO) or RSA (FAA)? | C22: This question asks whether the runway is equipped with a Runway End Safety Area (RESA) according to ICAO standards or the portion of the Runway Safety Area (RSA) at the end of the runway, as defined by FAA standards. It also requests the length of the RESA or RSA provided. RESA (ICAO): A RESA is an area symmetrical about the extended runway centerline and adjacent to the end of the strip. Its primary purpose is to reduce the risk of damage to an aircraft in the event of an undershoot or overrun. RSA (FAA): An RSA is a defined area surrounding the runway that is prepared to minimize damage in the event of an undershoot, overrun, or excursion from the runway. The portion of the RSA at the end of the runway serves a similar purpose to the RESA, providing a buffer zone to enhance safety in case of runway overruns or emergency situations. | D22: ICAO Annex 14 - Aerodromes, Volume I - Ch-3.5. click on this cell for further information about RSA
A23: 2.6 | B23: Is the RWY surface grooved? | C23: Indicate whether the runway surface is grooved, which is designed to improve friction and drainage, reduce the risk of hydroplaning, and enhance aircraft braking performance, especially in wet conditions. | D23: Aerodrome Design Manual (Doc 9157), Part 3 - Pavements, Ch-4.
A24: 2.7 | B24: RWY Approach category | C24: Classifies the runway based on the level of precision of the approach and landing system available, ranging from non-instrument approaches to highly precise CAT-III operations. Categories accommodate different levels of approach guidance and weather conditions. | D24: Aerodrome Design Manual (Doc 9157), Part 1 - Runways, Ch-1 Instrument Runway definition
A25: 2.8 | B25: Is the runway equipped with a Runway Status Lights (RWSL) system that automatically illuminates red in-pavement lights to warn of potential conflicts, independent of ATC clearances? | C25: Indicates whether the runway is equipped with Runway Status Lights (RWSL), a system designed to enhance runway safety by providing visual alerts to pilots and vehicle operators regarding runway occupancy and status. | D25: ICAO Annex 14 - Aerodromes, Volume I - Ch-5.3.30.
A26: 2.9 | B26: What is the critical aircraft(most demanding aircraft) of this runway? | C26: Asks for the identification of the critical aircraft using the runway, defined as the aircraft with the most demanding operational requirements for determining the aerodrome’s physical characteristics and safety standards. | D26: ICAO Annex 14 - Aerodromes, Volume I - Ch-5.3.4.
A29: 3. | B29: TAXIWAY | C29: This section pertains to various characteristics and features of taxiways, providing essential information for ground movement and navigation.
A30: 3.1 | B30: Number of Rapid Exit TWY (RET) | C30: The count of rapid exit taxiways available on the runway for aircraft to vacate quickly after landing, thereby reducing runway occupancy time and improving runway throughput. | D30: Doc 9157 Part-2, Ch-1.3
A31: 3.2 | B31: Number of End-Around Taxiways (EATs), specifically designed to allow aircraft to taxi around the runway end without crossing the active runway | C31: Asks for the number of End-Around Taxiways (EAT) at the airport. End-Around Taxiways are taxiways that allow aircraft to taxi around the end of a runway, enabling continuous runway operations without interrupting aircraft movements on the runway.
A32: 3.3 | B32: Does your airport have stopbars at all TWY/RWY intersections, or only at RWY entry points? | C32: Stopbars are safety devices installed at taxiway/runway intersections or runway entry points to manage the movement of aircraft and vehicles on the airfield. These illuminated bars, typically consisting of red lights embedded in the pavement, are designed to enhance safety by providing clear, visual signals that indicate when it is safe to proceed or when to stop. | D32: ICAO Annex 14 - Aerodromes, Volume I - Ch-5.3.20
A33: 3.4 | B33: Are stopbars operated at all times or only during Low Visibility Procedures(LVP)? | C33: Indicate whether your stopbars are lit continuously or only as needed.
A34: 3.5 | B34: Do you have Guard Lights (Wig Wags)? | C34: Runway incursions may take place in all visibility or weather conditions. The use of runway guard lights at runway-holding positions can form part of effective runway incursion prevention measures. Runway guard lights warn pilots and drivers of vehicles, when operating on taxiways, that they are about to enter a runway. | D34: ICAO Annex 14 - Aerodromes, Volume I - Ch-5.3.23
A35: 3.6 | B35: Does your airport allows intersection take-off? If yes, is there a TORA sign for the intersection take-off? | C35: Intersection take-off procedures refer to the practice of initiating a take-off from a point on the runway that is not at the runway threshold. Instead, the aircraft begins its take-off roll from an intermediate point along the runway, known as an intersection. | D35: ICAO Annex 14 - Aerodromes, Volume I - Ch-5.4.3.20
A37: 4. | B37: APRON | C37: This section pertains to various characteristics and features of the apron area, including parking areas, and associated equipment, providing essential information for aircraft parking and ground handling operations.
A38: 4.1 | B38: Total Number of Aircraft Stands | C38: The count of designated parking areas (aircraft stand) available on the apron for aircraft parking and servicing. This metric provides insight into the capacity and infrastructure available for accommodating aircraft at the airport. | D38: ICAO Annex 14 - Aerodromes, Volume I - Ch-3.13 and 9157-Airport Design Manual-Part 2-TWYs-Aprons-4th Edition 2005
A39: 4.2 | B39: Number of Remote Aircraft Stands defined as stands that are not equipped with Passenger Boarding Bridges (PBBs) | C39: The number of remote stands at an airport refers to the total count of parking positions for aircraft that are not directly connected to the terminal building via passenger boarding bridges (jet bridges). Passengers are typically transported to and from the terminal by buses or walk across the apron to reach these stands. | D39: ICAO Annex 14 - Aerodromes, Volume I 9157-Airport Design Manual-Part 2-TWYs-Aprons-4th Edition 2005
A40: 4.3 | B40: Is a surface movement guidance and control system (SMGCS) been provided at your airport? If so, which level? | C40: Surface Movement Guidance and Control System (SMGCS) is implemented at airports to safely manage aircraft and vehicle movements in low-visibility conditions. If your airport has an SMGCS, specify the level (Level 1, Level 2, etc.) based on the visibility conditions it supports. | D40: ICAO Doc 9830 FAA Advisory Circular 120-57A
A41: 4.4 | B41: Number of A-VDGS | C41: The count of Advanced Visual Docking Guidance Systems (A-VDGS) installed on the apron, which provide visual guidance to pilots during aircraft parking maneuvers, enhancing safety and efficiency. | D41: ICAO Annex 14 - Aerodromes, Volume I - Ch-5.3.26
A42: 4.5 | B42: Are the vehicles service roads located at the front or back side of aircraft stands? | C42: Indicates the presence of service roads located at the front or backside of the stands, facilitating vehicle access for ground handling and servicing activities.
A43: 4.6 | B43: Does your airport have alternative taxilanes or taxiways where differentiated markings (e.g., color, line type, or pattern) are used based on aircraft wingspan to improve traffic flow? | C43: To increase the flow of traffic in aircraft stand taxilanes, it may be found helpful to use alternative center lines (e.g. two Code C aircraft with maximum wingspan 36 m or one Code E aircraft with maximum wingspan 65 m). Minimum distances from center line to center line and/or center line to objects can be found in ICAO Annex 14, Volume 1, Table 3-1. | D43: ACI Apron Markings and Signs Handbook Third edition-2017
A44: 4.7 | B44: What type of pavement is used for the aircraft parking stands? | C44: The type of surface material or composition of the apron, such as asphalt, concrete, or combination.
...

Sheet Data_Validation
B1: 1. General Information
B3: ACI Regions | D3: Legislative Bodies | F3: Surface Type | H3: Aircraft Types
B4: Africa | D4: ICAO | F4: All in asphalt | H4: Airbus A220
B5: Asia-Pacific & Middle East | D5: FAA | F5: All in concrete | H5: Airbus A300
B6: Europe | D6: EASA | F6: Combination (some in asphalt and some in concrete) | H6: Airbus A310
B7: Latin America-Caribbean | F7: Other | H7: Airbus A318
B8: North America | H8: Airbus A319
H9: Airbus A320
H10: Airbus A321
B11: Yes and No | D11: Measurement System | F11: RESA (Excluding Strip) | H11: Airbus A330
B12: Yes | D12: Meter | F12: None | H12: Airbus A340
B13: No | D13: Feet | F13: RESA: Less than 90m | H13: Airbus A350
B14: I don't know. | F14: RESA: 90m | H14: Airbus A380
F15: RESA: Between 90m and 240m | H15: ATR 42/72
F16: RESA: 240m | H16: BAe 146 / Avro RJ
B17: Intersection take-off | D17: Stopbars Availability | F17: RESA: More than 240m | H17: Beech 1900D
B18: No | D18: Yes | F18: RSA: 600 feet | H18: Boeing 717
B19: Yes, but no signage | D19: Only at runway entry points | F19: RSA: 1,000 feet | H19: Boeing 737
B20: Yes, and have signage but not lit | D20: Some intersections, but not at all | F20: RSA: More than 1,000 feet | H20: Boeing 737 NG / Max
B21: Yes, and have signage and are lit | D21: Not installed | H21: Boeing 747
H22: Boeing 757
H23: Boeing 767
B24: SMCGS | D24: Service Roads front or backside | F24: Type of Firefighting Foam | H24: Boeing 777
B25: Not provided | D25: Front/head of stand at all locations | F25: Protein foam. | H25: Boeing 787
B26: Level-1 | D26: Back/tail of stand at all locations | F26: Fluoroprotein foam (conventional). | H26: Canadair Regional Jet
B27: Level-2 | D27: Both front and back of stand at all locations | F27: Aqueous Film Forming Foam (AFFF). | H27: Comac ARJ21
B28: Level-3 | D28: Some locations front of stand / some locations back of stand | F28: Film Forming Fluoroprotein (FFFP) foams. | H28: Comac C919
B29: Level-4 | F29: Synthetic Foams. | H29: Concorde
F30: Synthetic Fluorine-free foams (SFFF) or Fluorine-free foams | H30: Dash 8
H31: Embraer 120 Brasilia
B32: Curfew | D32: ARFF Category or Index | F32: Runway Category | H32: Embraer 135/145
B33: No | D33: 1 | F33: Non-Instrument | H33: Embraer 170/175
B34: Yes, between 1 and 2 hours | D34: 2 | F34: Non-Precision | H34: Embraer 190/195
B35: Yes, between 2 and 4 hours | D35: 3 | F35: CAT-I | H35: Fokker 50
B36: Yes, Between 4 and 6 hours | D36: 4 | F36: CAT-II | H36: Fokker 70/100
B37: Yes, more than 6 hours | D37: 5 | F37: CAT-III A | H37: Ilyushin Il-96
D38: 6 | F38: CAT-III B | H38: Irkut MC-21
D39: 7 | F39: CAT-III C | H39: Lockheed L-1011 TriStar
B40: SAF blend ratio | D40: 8 | H40: McDonnell Douglas DC-10
B41: 2% or less SAF/ 98% or more Conventional Jet Fuel | D41: 9 | H41: McDonnell Douglas MD-11
...

Sheet Consolidated_Data
A1: Tab 1. General Information
A2: 1.Identification of the Airport
A3: AirportName | B3: AirportCode | C3: ACIRegion | D3: ATM | E3: CertifiedByCAA | F3: CertificationDate | G3: MeasurementSystem | H3: LegislativeBody | I3: Name | J3: JobTtile | K3: Email | L3: Data Year
A4: =IF('1. General Information'!$G$3="","",'1. General Information'!$G$3) | B4: =IF('1. General Information'!$G$4="","",'1. General Information'!$G$4) | C4: =IF('1. General Information'!$G$5="","",'1. General Information'!$G$5) | D4: =IF('1. General Information'!$G$6="","",'1. General Information'!$G$6) | E4: =IF('1. General Information'!$G$7="","",'1. General Information'!$G$7) | F4: =IF('1. General Information'!$G$8="","",'1. General Information'!$G$8) | G4: =IF('1. General Information'!$G$9="","",'1. General Information'!$G$9) | H4: =IF('1. General Information'!$G$10="","",'1. General Information'!$G$10) | I4: =IF('1. General Information'!$G$11="","",'1. General Information'!$G$11) | J4: =IF('1. General Information'!$G$12="","",'1. General Information'!$G$12) | K4: =IF('1. General Information'!$G$13="","",'1. General Information'!$G$13) | L4: =IF('1. General Information'!$G$14="","",'1. General Information'!$G$14)
A6: 2.Runway (RWY) Information
A7: AirportCode | B7: Data Year | C7: RunwayID | D7: Designation | E7: Surface | F7: Length | G7: Width | H7: RESA | I7: Grooved | J7: AproachCategory | K7: RWSL | L7: CriticalAircraft | M7: RI_Aircraft | N7: RI_Vehicle | O7: RI_Person | P7: RE_Overrun | Q7: RE_Undershoot | R7: RE_VeerOff
A8: =IF('1. General Information'!$G$4="","",'1. General Information'!$G$4) | B8: =IF('1. General Information'!$G$14="","",'1. General Information'!$G$14) | C8: 1 | D8: =IF('1. General Information'!$D19="","",'1. General Information'!$D19) | E8: =IF('1. General Information'!$E19="","",'1. General Information'!$E19) | F8: =IF(LEN(TRIM('1. General Information'!$F19))=0,"", IF('1. General Information'!$G$9="Feet", '1. General Information'!$F19*0.3048, '1. General Information'!$F19 ) ) | G8: =IF(LEN(TRIM('1. General Information'!$G19))=0,"", IF('1. General Information'!$G$9="Feet", '1. General Information'!$G19*0.3048, '1. General Information'!$G19 ) ) | H8: =IF('1. General Information'!$H19="","",'1. General Information'!$H19) | I8: =IF('1. General Information'!I19="","",'1. General Information'!I19) | J8: =IF('1. General Information'!J19="","",'1. General Information'!J19) | K8: =IF('1. General Information'!K19="","",'1. General Information'!K19) | L8: =IF('1. General Information'!L19="","",'1. General Information'!L19) | M8: =IF(LEN('3. Lagging Indicators'!$D$5)=0,"",'3. Lagging Indicators'!$D$5) | N8: =IF(LEN('3. Lagging Indicators'!$D$6)=0,"",'3. Lagging Indicators'!$D$6) | O8: =IF(LEN('3. Lagging Indicators'!$D$7)=0,"",'3. Lagging Indicators'!$D$7) | P8: =IF(LEN('3. Lagging Indicators'!$D$9)=0,"",'3. Lagging Indicators'!$D$9) | Q8: =IF(LEN('3. Lagging Indicators'!$D$10)=0,"",'3. Lagging Indicators'!$D$10) | R8: =IF(LEN('3. Lagging Indicators'!$D$11)=0,"",'3. Lagging Indicators'!$D$11)
A9: =IF('1. General Information'!$G$4="","",'1. General Information'!$G$4) | B9: =IF('1. General Information'!$G$14="","",'1. General Information'!$G$14) | C9: 1 | D9: =IF('1. General Information'!$D20="","",'1. General Information'!$D20) | E9: =IF('1. General Information'!$E20="","",'1. General Information'!$E20) | F9: =IF(LEN(TRIM('1. General Information'!$F20))=0,"", IF('1. General Information'!$G$9="Feet", '1. General Information'!$F20*0.3048, '1. General Information'!$F20 ) ) | G9: =IF(LEN(TRIM('1. General Information'!$G20))=0,"", IF('1. General Information'!$G$9="Feet", '1. General Information'!$G20*0.3048, '1. General Information'!$G20 ) ) | H9: =IF('1. General Information'!$H20="","",'1. General Information'!$H20) | I9: =IF('1. General Information'!I20="","",'1. General Information'!I20) | J9: =IF('1. General Information'!J20="","",'1. General Information'!J20) | K9: =IF('1. General Information'!K20="","",'1. General Information'!K20) | L9: =IF('1. General Information'!L20="","",'1. General Information'!L20)
A10: =IF('1. General Information'!$G$4="","",'1. General Information'!$G$4) | B10: =IF('1. General Information'!$G$14="","",'1. General Information'!$G$14) | C10: 2 | D10: =IF('1. General Information'!$D21="","",'1. General Information'!$D21) | E10: =IF('1. General Information'!$E21="","",'1. General Information'!$E21) | F10: =IF(LEN(TRIM('1. General Information'!$F21))=0,"", IF('1. General Information'!$G$9="Feet", '1. General Information'!$F21*0.3048, '1. General Information'!$F21 ) ) | G10: =IF(LEN(TRIM('1. General Information'!$G21))=0,"", IF('1. General Information'!$G$9="Feet", '1. General Information'!$G21*0.3048, '1. General Information'!$G21 ) ) | H10: =IF('1. General Information'!$H21="","",'1. General Information'!$H21) | I10: =IF('1. General Information'!I21="","",'1. General Information'!I21) | J10: =IF('1. General Information'!J21="","",'1. General Information'!J21) | K10: =IF('1. General Information'!K21="","",'1. General Information'!K21) | L10: =IF('1. General Information'!L21="","",'1. General Information'!L21) | M10: =IF(LEN('3. Lagging Indicators'!$E$5)=0,"",'3. Lagging Indicators'!$E$5) | N10: =IF(LEN('3. Lagging Indicators'!$E$6)=0,"",'3. Lagging Indicators'!$E$6) | O10: =IF(LEN('3. Lagging Indicators'!$E$7)=0,"",'3. Lagging Indicators'!$E$7) | P10: =IF(LEN('3. Lagging Indicators'!$E$9)=0,"",'3. Lagging Indicators'!$E$9) | Q10: =IF(LEN('3. Lagging Indicators'!$E$10)=0,"",'3. Lagging Indicators'!$E$10) | R10: =IF(LEN('3. Lagging Indicators'!$E$11)=0,"",'3. Lagging Indicators'!$E$11)
A11: =IF('1. General Information'!$G$4="","",'1. General Information'!$G$4) | B11: =IF('1. General Information'!$G$14="","",'1. General Information'!$G$14) | C11: 2 | D11: =IF('1. General Information'!$D22="","",'1. General Information'!$D22) | E11: =IF('1. General Information'!$E22="","",'1. General Information'!$E22) | F11: =IF(LEN(TRIM('1. General Information'!$F22))=0,"", IF('1. General Information'!$G$9="Feet", '1. General Information'!$F22*0.3048, '1. General Information'!$F22 ) ) | G11: =IF(LEN(TRIM('1. General Information'!$G22))=0,"", IF('1. General Information'!$G$9="Feet", '1. General Information'!$G22*0.3048, '1. General Information'!$G22 ) ) | H11: =IF('1. General Information'!$H22="","",'1. General Information'!$H22) | I11: =IF('1. General Information'!I22="","",'1. General Information'!I22) | J11: =IF('1. General Information'!J22="","",'1. General Information'!J22) | K11: =IF('1. General Information'!K22="","",'1. General Information'!K22) | L11: =IF('1. General Information'!L22="","",'1. General Information'!L22)
A12: =IF('1. General Information'!$G$4="","",'1. General Information'!$G$4) | B12: =IF('1. General Information'!$G$14="","",'1. General Information'!$G$14) | C12: 3 | D12: =IF('1. General Information'!$D23="","",'1. General Information'!$D23) | E12: =IF('1. General Information'!$E23="","",'1. General Information'!$E23) | F12: =IF(LEN(TRIM('1. General Information'!$F23))=0,"", IF('1. General Information'!$G$9="Feet", '1. General Information'!$F23*0.3048, '1. General Information'!$F23 ) ) | G12: =IF(LEN(TRIM('1. General Information'!$G23))=0,"", IF('1. General Information'!$G$9="Feet", '1. General Information'!$G23*0.3048, '1. General Information'!$G23 ) ) | H12: =IF('1. General Information'!$H23="","",'1. General Information'!$H23) | I12: =IF('1. General Information'!I23="","",'1. General Information'!I23) | J12: =IF('1. General Information'!J23="","",'1. General Information'!J23) | K12: =IF('1. General Information'!K23="","",'1. General Information'!K23) | L12: =IF('1. General Information'!L23="","",'1. General Information'!L23) | M12: =IF(LEN('3. Lagging Indicators'!$F$5)=0,"",'3. Lagging Indicators'!$F$5) | N12: =IF(LEN('3. Lagging Indicators'!$F$6)=0,"",'3. Lagging Indicators'!$F$6) | O12: =IF(LEN('3. Lagging Indicators'!$F$7)=0,"",'3. Lagging Indicators'!$F$7) | P12: =IF(LEN('3. Lagging Indicators'!$F$9)=0,"",'3. Lagging Indicators'!$F$9) | Q12: =IF(LEN('3. Lagging Indicators'!$F$10)=0,"",'3. Lagging Indicators'!$F$10) | R12: =IF(LEN('3. Lagging Indicators'!$F$11)=0,"",'3. Lagging Indicators'!$F$11)
A13: =IF('1. General Information'!$G$4="","",'1. General Information'!$G$4) | B13: =IF('1. General Information'!$G$14="","",'1. General Information'!$G$14) | C13: 3 | D13: =IF('1. General Information'!$D24="","",'1. General Information'!$D24) | E13: =IF('1. General Information'!$E24="","",'1. General Information'!$E24) | F13: =IF(LEN(TRIM('1. General Information'!$F24))=0,"", IF('1. General Information'!$G$9="Feet", '1. General Information'!$F24*0.3048, '1. General Information'!$F24 ) ) | G13: =IF(LEN(TRIM('1. General Information'!$G24))=0,"", IF('1. General Information'!$G$9="Feet", '1. General Information'!$G24*0.3048, '1. General Information'!$G24 ) ) | H13: =IF('1. General Information'!$H24="","",'1. General Information'!$H24) | I13: =IF('1. General Information'!I24="","",'1. General Information'!I24) | J13: =IF('1. General Information'!J24="","",'1. General Information'!J24) | K13: =IF('1. General Information'!K24="","",'1. General Information'!K24) | L13: =IF('1. General Information'!L24="","",'1. General Information'!L24)
A14: =IF('1. General Information'!$G$4="","",'1. General Information'!$G$4) | B14: =IF('1. General Information'!$G$14="","",'1. General Information'!$G$14) | C14: 4 | D14: =IF('1. General Information'!$D25="","",'1. General Information'!$D25) | E14: =IF('1. General Information'!$E25="","",'1. General Information'!$E25) | F14: =IF(LEN(TRIM('1. General Information'!$F25))=0,"", IF('1. General Information'!$G$9="Feet", '1. General Information'!$F25*0.3048, '1. General Information'!$F25 ) ) | G14: =IF(LEN(TRIM('1. General Information'!$G25))=0,"", IF('1. General Information'!$G$9="Feet", '1. General Information'!$G25*0.3048, '1. General Information'!$G25 ) ) | H14: =IF('1. General Information'!$H25="","",'1. General Information'!$H25) | I14: =IF('1. General Information'!I25="","",'1. General Information'!I25) | J14: =IF('1. General Information'!J25="","",'1. General Information'!J25) | K14: =IF('1. General Information'!K25="","",'1. General Information'!K25) | L14: =IF('1. General Information'!L25="","",'1. General Information'!L25) | M14: =IF(LEN('3. Lagging Indicators'!$G$5)=0,"",'3. Lagging Indicators'!$G$5) | N14: =IF(LEN('3. Lagging Indicators'!$G$6)=0,"",'3. Lagging Indicators'!$G$6) | O14: =IF(LEN('3. Lagging Indicators'!$G$7)=0,"",'3. Lagging Indicators'!$G$7) | P14: =IF(LEN('3. Lagging Indicators'!$G$9)=0,"",'3. Lagging Indicators'!$G$9) | Q14: =IF(LEN('3. Lagging Indicators'!$G$10)=0,"",'3. Lagging Indicators'!$G$10) | R14: =IF(LEN('3. Lagging Indicators'!$G$11)=0,"",'3. Lagging Indicators'!$G$11)
A15: =IF('1. General Information'!$G$4="","",'1. General Information'!$G$4) | B15: =IF('1. General Information'!$G$14="","",'1. General Information'!$G$14) | C15: 4 | D15: =IF('1. General Information'!$D26="","",'1. General Information'!$D26) | E15: =IF('1. General Information'!$E26="","",'1. General Information'!$E26) | F15: =IF(LEN(TRIM('1. General Information'!$F26))=0,"", IF('1. General Information'!$G$9="Feet", '1. General Information'!$F26*0.3048, '1. General Information'!$F26 ) ) | G15: =IF(LEN(TRIM('1. General Information'!$G26))=0,"", IF('1. General Information'!$G$9="Feet", '1. General Information'!$G26*0.3048, '1. General Information'!$G26 ) ) | H15: =IF('1. General Information'!$H26="","",'1. General Information'!$H26) | I15: =IF('1. General Information'!I26="","",'1. General Information'!I26) | J15: =IF('1. General Information'!J26="","",'1. General Information'!J26) | K15: =IF('1. General Information'!K26="","",'1. General Information'!K26) | L15: =IF('1. General Information'!L26="","",'1. General Information'!L26)
A16: =IF('1. General Information'!$G$4="","",'1. General Information'!$G$4) | B16: =IF('1. General Information'!$G$14="","",'1. General Information'!$G$14) | C16: 5 | D16: =IF('1. General Information'!$D27="","",'1. General Information'!$D27) | E16: =IF('1. General Information'!$E27="","",'1. General Information'!$E27) | F16: =IF(LEN(TRIM('1. General Information'!$F27))=0,"", IF('1. General Information'!$G$9="Feet", '1. General Information'!$F27*0.3048, '1. General Information'!$F27 ) ) | G16: =IF(LEN(TRIM('1. General Information'!$G27))=0,"", IF('1. General Information'!$G$9="Feet", '1. General Information'!$G27*0.3048, '1. General Information'!$G27 ) ) | H16: =IF('1. General Information'!$H27="","",'1. General Information'!$H27) | I16: =IF('1. General Information'!I27="","",'1. General Information'!I27) | J16: =IF('1. General Information'!J27="","",'1. General Information'!J27) | K16: =IF('1. General Information'!K27="","",'1. General Information'!K27) | L16: =IF('1. General Information'!L27="","",'1. General Information'!L27) | M16: =IF(LEN('3. Lagging Indicators'!$H$5)=0,"",'3. Lagging Indicators'!$H$5) | N16: =IF(LEN('3. Lagging Indicators'!$H$6)=0,"",'3. Lagging Indicators'!$H$6) | O16: =IF(LEN('3. Lagging Indicators'!$H$7)=0,"",'3. Lagging Indicators'!$H$7) | P16: =IF(LEN('3. Lagging Indicators'!$H$9)=0,"",'3. Lagging Indicators'!$H$9) | Q16: =IF(LEN('3. Lagging Indicators'!$H$10)=0,"",'3. Lagging Indicators'!$H$10) | R16: =IF(LEN('3. Lagging Indicators'!$H$11)=0,"",'3. Lagging Indicators'!$H$11)
A17: =IF('1. General Information'!$G$4="","",'1. General Information'!$G$4) | B17: =IF('1. General Information'!$G$14="","",'1. General Information'!$G$14) | C17: 5 | D17: =IF('1. General Information'!$D28="","",'1. General Information'!$D28) | E17: =IF('1. General Information'!$E28="","",'1. General Information'!$E28) | F17: =IF(LEN(TRIM('1. General Information'!$F28))=0,"", IF('1. General Information'!$G$9="Feet", '1. General Information'!$F28*0.3048, '1. General Information'!$F28 ) ) | G17: =IF(LEN(TRIM('1. General Information'!$G28))=0,"", IF('1. General Information'!$G$9="Feet", '1. General Information'!$G28*0.3048, '1. General Information'!$G28 ) ) | H17: =IF('1. General Information'!$H28="","",'1. General Information'!$H28) | I17: =IF('1. General Information'!I28="","",'1. General Information'!I28) | J17: =IF('1. General Information'!J28="","",'1. General Information'!J28) | K17: =IF('1. General Information'!K28="","",'1. General Information'!K28) | L17: =IF('1. General Information'!L28="","",'1. General Information'!L28)
A18: =IF('1. General Information'!$G$4="","",'1. General Information'!$G$4) | B18: =IF('1. General Information'!$G$14="","",'1. General Information'!$G$14) | C18: 6 | D18: =IF('1. General Information'!$D29="","",'1. General Information'!$D29) | E18: =IF('1. General Information'!$E29="","",'1. General Information'!$E29) | F18: =IF(LEN(TRIM('1. General Information'!$F29))=0,"", IF('1. General Information'!$G$9="Feet", '1. General Information'!$F29*0.3048, '1. General Information'!$F29 ) ) | G18: =IF(LEN(TRIM('1. General Information'!$G29))=0,"", IF('1. General Information'!$G$9="Feet", '1. General Information'!$G29*0.3048, '1. General Information'!$G29 ) ) | H18: =IF('1. General Information'!$H29="","",'1. General Information'!$H29) | I18: =IF('1. General Information'!I29="","",'1. General Information'!I29) | J18: =IF('1. General Information'!J29="","",'1. General Information'!J29) | K18: =IF('1. General Information'!K29="","",'1. General Information'!K29) | L18: =IF('1. General Information'!L29="","",'1. General Information'!L29) | M18: =IF(LEN('3. Lagging Indicators'!$I$5)=0,"",'3. Lagging Indicators'!$I$5) | N18: =IF(LEN('3. Lagging Indicators'!$I$6)=0,"",'3. Lagging Indicators'!$I$6) | O18: =IF(LEN('3. Lagging Indicators'!$I$7)=0,"",'3. Lagging Indicators'!$I$7) | P18: =IF(LEN('3. Lagging Indicators'!$I$9)=0,"",'3. Lagging Indicators'!$I$9) | Q18: =IF(LEN('3. Lagging Indicators'!$I$10)=0,"",'3. Lagging Indicators'!$I$10) | R18: =IF(LEN('3. Lagging Indicators'!$I$11)=0,"",'3. Lagging Indicators'!$I$11)
A19: =IF('1. General Information'!$G$4="","",'1. General Information'!$G$4) | B19: =IF('1. General Information'!$G$14="","",'1. General Information'!$G$14) | C19: 6 | D19: =IF('1. General Information'!$D30="","",'1. General Information'!$D30) | E19: =IF('1. General Information'!$E30="","",'1. General Information'!$E30) | F19: =IF(LEN(TRIM('1. General Information'!$F30))=0,"", IF('1. General Information'!$G$9="Feet", '1. General Information'!$F30*0.3048, '1. General Information'!$F30 ) ) | G19: =IF(LEN(TRIM('1. General Information'!$G30))=0,"", IF('1. General Information'!$G$9="Feet", '1. General Information'!$G30*0.3048, '1. General Information'!$G30 ) ) | H19: =IF('1. General Information'!$H30="","",'1. General Information'!$H30) | I19: =IF('1. General Information'!I30="","",'1. General Information'!I30) | J19: =IF('1. General Information'!J30="","",'1. General Information'!J30) | K19: =IF('1. General Information'!K30="","",'1. General Information'!K30) | L19: =IF('1. General Information'!L30="","",'1. General Information'!L30)
A20: =IF('1. General Information'!$G$4="","",'1. General Information'!$G$4) | B20: =IF('1. General Information'!$G$14="","",'1. General Information'!$G$14) | C20: 7 | D20: =IF('1. General Information'!$D31="","",'1. General Information'!$D31) | E20: =IF('1. General Information'!$E31="","",'1. General Information'!$E31) | F20: =IF(LEN(TRIM('1. General Information'!$F31))=0,"", IF('1. General Information'!$G$9="Feet", '1. General Information'!$F31*0.3048, '1. General Information'!$F31 ) ) | G20: =IF(LEN(TRIM('1. General Information'!$G31))=0,"", IF('1. General Information'!$G$9="Feet", '1. General Information'!$G31*0.3048, '1. General Information'!$G31 ) ) | H20: =IF('1. General Information'!$H31="","",'1. General Information'!$H31) | I20: =IF('1. General Information'!I31="","",'1. General Information'!I31) | J20: =IF('1. General Information'!J31="","",'1. General Information'!J31) | K20: =IF('1. General Information'!K31="","",'1. General Information'!K31) | L20: =IF('1. General Information'!L31="","",'1. General Information'!L31) | M20: =IF(LEN('3. Lagging Indicators'!$J$5)=0,"",'3. Lagging Indicators'!$J$5) | N20: =IF(LEN('3. Lagging Indicators'!$J$6)=0,"",'3. Lagging Indicators'!$J$6) | O20: =IF(LEN('3. Lagging Indicators'!$J$7)=0,"",'3. Lagging Indicators'!$J$7) | P20: =IF(LEN('3. Lagging Indicators'!$J$9)=0,"",'3. Lagging Indicators'!$J$9) | Q20: =IF(LEN('3. Lagging Indicators'!$J$10)=0,"",'3. Lagging Indicators'!$J$10) | R20: =IF(LEN('3. Lagging Indicators'!$J$11)=0,"",'3. Lagging Indicators'!$J$11)
A21: =IF('1. General Information'!$G$4="","",'1. General Information'!$G$4) | B21: =IF('1. General Information'!$G$14="","",'1. General Information'!$G$14) | C21: 7 | D21: =IF('1. General Information'!$D32="","",'1. General Information'!$D32) | E21: =IF('1. General Information'!$E32="","",'1. General Information'!$E32) | F21: =IF(LEN(TRIM('1. General Information'!$F32))=0,"", IF('1. General Information'!$G$9="Feet", '1. General Information'!$F32*0.3048, '1. General Information'!$F32 ) ) | G21: =IF(LEN(TRIM('1. General Information'!$G32))=0,"", IF('1. General Information'!$G$9="Feet", '1. General Information'!$G32*0.3048, '1. General Information'!$G32 ) ) | H21: =IF('1. General Information'!$H32="","",'1. General Information'!$H32) | I21: =IF('1. General Information'!I32="","",'1. General Information'!I32) | J21: =IF('1. General Information'!J32="","",'1. General Information'!J32) | K21: =IF('1. General Information'!K32="","",'1. General Information'!K32) | L21: =IF('1. General Information'!L32="","",'1. General Information'!L32)
A22: =IF('1. General Information'!$G$4="","",'1. General Information'!$G$4) | B22: =IF('1. General Information'!$G$14="","",'1. General Information'!$G$14) | C22: 8 | D22: =IF('1. General Information'!$D33="","",'1. General Information'!$D33) | E22: =IF('1. General Information'!$E33="","",'1. General Information'!$E33) | F22: =IF(LEN(TRIM('1. General Information'!$F33))=0,"", IF('1. General Information'!$G$9="Feet", '1. General Information'!$F33*0.3048, '1. General Information'!$F33 ) ) | G22: =IF(LEN(TRIM('1. General Information'!$G33))=0,"", IF('1. General Information'!$G$9="Feet", '1. General Information'!$G33*0.3048, '1. General Information'!$G33 ) ) | H22: =IF('1. General Information'!$H33="","",'1. General Information'!$H33) | I22: =IF('1. General Information'!I33="","",'1. General Information'!I33) | J22: =IF('1. General Information'!J33="","",'1. General Information'!J33) | K22: =IF('1. General Information'!K33="","",'1. General Information'!K33) | L22: =IF('1. General Information'!L33="","",'1. General Information'!L33) | M22: =IF(LEN('3. Lagging Indicators'!$K$5)=0,"",'3. Lagging Indicators'!$K$5) | N22: =IF(LEN('3. Lagging Indicators'!$K$6)=0,"",'3. Lagging Indicators'!$K$6) | O22: =IF(LEN('3. Lagging Indicators'!$K$7)=0,"",'3. Lagging Indicators'!$K$7) | P22: =IF(LEN('3. Lagging Indicators'!$K$9)=0,"",'3. Lagging Indicators'!$K$9) | Q22: =IF(LEN('3. Lagging Indicators'!$K$10)=0,"",'3. Lagging Indicators'!$K$10) | R22: =IF(LEN('3. Lagging Indicators'!$K$11)=0,"",'3. Lagging Indicators'!$K$11)
A23: =IF('1. General Information'!$G$4="","",'1. General Information'!$G$4) | B23: =IF('1. General Information'!$G$14="","",'1. General Information'!$G$14) | C23: 8 | D23: =IF('1. General Information'!$D34="","",'1. General Information'!$D34) | E23: =IF('1. General Information'!$E34="","",'1. General Information'!$E34) | F23: =IF(LEN(TRIM('1. General Information'!$F34))=0,"", IF('1. General Information'!$G$9="Feet", '1. General Information'!$F34*0.3048, '1. General Information'!$F34 ) ) | G23: =IF(LEN(TRIM('1. General Information'!$G34))=0,"", IF('1. General Information'!$G$9="Feet", '1. General Information'!$G34*0.3048, '1. General Information'!$G34 ) ) | H23: =IF('1. General Information'!$H34="","",'1. General Information'!$H34) | I23: =IF('1. General Information'!I34="","",'1. General Information'!I34) | J23: =IF('1. General Information'!J34="","",'1. General Information'!J34) | K23: =IF('1. General Information'!K34="","",'1. General Information'!K34) | L23: =IF('1. General Information'!L34="","",'1. General Information'!L34)
A25: 3.Taxiway (TWY) Information
A26: AirportCode | B26: Data Year | C26: RET | D26: EAT | E26: Stopbars | F26: StopbarsLit | G26: GuardLight | H26: IntersectionTakeoff
A27: =IF('1. General Information'!$G$4="","",'1. General Information'!$G$4) | B27: =IF('1. General Information'!$G$14="","",'1. General Information'!$G$14) | C27: =IF('1. General Information'!$C$39="","",'1. General Information'!$C$39) | D27: =IF('1. General Information'!$D$39="","",'1. General Information'!$D$39) | E27: =IF('1. General Information'!$E$39="","",'1. General Information'!$E$39) | F27: =IF('1. General Information'!$F$39="","",'1. General Information'!$F$39) | G27: =IF('1. General Information'!$G$39="","",'1. General Information'!$G$39) | H27: =IF('1. General Information'!$H$39="","",'1. General Information'!$H$39)
A29: 4.Apron Information
A30: AirportCode | B30: Data Year | C30: Stands | D30: RemoteStands | E30: SMGCS | F30: A_VDGS | G30: ServiceRoad | H30: AlterntiveTaxiway | I30: Pavement
A31: =IF('1. General Information'!$G$4="","",'1. General Information'!$G$4) | B31: =IF('1. General Information'!$G$14="","",'1. General Information'!$G$14) | C31: =IF('1. General Information'!C$44="","",'1. General Information'!C$44) | D31: =IF('1. General Information'!D$44="","",'1. General Information'!D$44) | E31: =IF('1. General Information'!E$44="","",'1. General Information'!E$44) | F31: =IF('1. General Information'!F$44="","",'1. General Information'!F$44) | G31: =IF('1. General Information'!G$44="","",'1. General Information'!G$44) | H31: =IF('1. General Information'!H$44="","",'1. General Information'!H$44) | I31: =IF('1. General Information'!I$44="","",'1. General Information'!I$44)
A33: 5.General Information of the Airport
